BEGIN:VCALENDAR
VERSION:2.0
PRODID:-//https://mnar.ro///NONSGML kigkonsult.se iCalcreator 2.10.15//
METHOD:PUBLISH
BEGIN:VEVENT
UID:20260421T161455EEST-9238blrxsR@https://mnar.ro/
DTSTAMP:20260421T131455Z
DESCRIPTION:&nbsp\;\n&nbsp\;\nSerie de conferințe susținute de Cosmin Ungur
 eanu\nMuzeul Național de Artă al Rom&acirc\;niei propune publicului o seri
 e de conferințe ce relaționează c&acirc\;te două-trei tablouri din Galeria
  de Artă Europeană &icirc\;n c&acirc\;mpul unei teme comune. Incursiunile\
 , &icirc\;nsoțite de un amplu material vizual\, au drept miză contextualiz
 area operelor de artă alese și\, implicit\, explorarea teritoriulului mai 
 vast al istoriei artei europene. &nbsp\;\nConferințele vor avea loc &icirc
 \;n prima miercuri din lună\, o dată la două luni\, &icirc\;n sălile Galer
 iei de Artă Europeană\, &icirc\;ncep&acirc\;nd cu orele 16:00. &nbsp\;\nAc
 cesul este gratuit &icirc\;n limita locurilor disponibile.\nProgram:4 octo
 mbrie 2017 / sala de pictură spaniolăMetapictura. Codificări ale artei &ic
 irc\;n secolele XVI-XVIII &nbsp\;\n6 decembrie 2017 / sala de pictură span
 iolăViziunile lui El Greco\n7 februarie 2018 / sala de pictură flamandă și
  olandezăBucătărie flamandă &icirc\;n trei tablouri\n4 aprilie 2018 / sala
  de pictură venețiană&bdquo\;Suzana și bătr&acirc\;nii&rdquo\; &icirc\;n c
 ontext: Veneția și Utrecht\, secolul al XVII-lea\n6 iunie 2018 / sala de p
 ictură flamandă și olandezăAsamblaje: trei buchete florale din secolele&nb
 sp\; XVII-XVIII\nInformații suplimentare:Telefon: 021 314 81 19Email: prog
 ramari@art.museum.rowww.mnar.arts.ro\n&nbsp\; https://devcpanel.mnar.ro/ar
 hiva-evenimentelor/eveniment/179-conferințe-incursiuni-în-galeria-de-artă-
 europeană
DTSTART:20171206T160000Z
DTEND:20180808T170000Z
LOCATION:Muzeul Național de Artă al României - Galeria de Artă Europeană ()
SUMMARY:Conferințe: Incursiuni în Galeria de Artă Europeană
URL:https://devcpanel.mnar.ro/arhiva-evenimentelor/eveniment/179-conferințe
 -incursiuni-în-galeria-de-artă-europeană
END:VEVENT
END:VCALENDAR
