BEGIN:VCALENDAR
VERSION:2.0
PRODID:-//https://mnar.ro///NONSGML kigkonsult.se iCalcreator 2.10.15//
METHOD:PUBLISH
BEGIN:VEVENT
UID:20260421T161456EEST-1698Je7tI2@https://mnar.ro/
DTSTAMP:20260421T131456Z
DESCRIPTION:Pe data de 4 aprilie\, ora 16.00\, vom continua seria de confer
 ințe Incursiuni în Galeria de Artă Europeană\, al cărei scop este contextu
 alizarea operelor de artă alese în bogata istorie a artei europene. De ace
 astă dată Cosmin Ungureanu va susține o prezentare cu tema „Suzana și bătr
 ânii” în context: Veneția și Utrecht\, secolul al XVII-lea\, în sala a dou
 a a Galeriei de Artă Europeană.\nDe-a lungul timpului\, parabola veterotes
 tamentară a Suzanei (Daniel 13\, 1-64) a fost figurată cu o constelație de
  semnificații: triumf al credinței\, exemplu de castitate maritală creștin
 ă sau chiar alegorie voalată a Bisericii. Începând cu secolul al XVII-lea 
 este accentuată nuditatea victimei – emblemă a vulnerabilității\, dar și a
  frumuseții seducătoare – într-o invariabilă actualizare a unui ritual al 
 puterii discreționare. Pânda celor doi bătrâni este dublată de voyeurismul
  spectatorului\, aflat el însuși – laolaltă cu pictorul – în situația ambi
 guă de substitut al ochiului divin\, martor unic și nevăzut al abuzului.\n
 Cu aceste observații preliminare\, conferința aduce în discuție două tablo
 uri din Galeria de Artă Europeană\, pictate în prima jumătate a secolului 
 al XVII-lea la Veneția\, respectiv la Utrecht.\nConferințele din seria Inc
 ursiuni în Galeria de Artă Europeană au loc în prima zi de miercuri din lu
 nă\, odată la două luni.\nAccesul este gratuit în limita locurilor disponi
 bile.\nPrezentarea durează o oră.\nProgram serie de conferințe:\n4 octombr
 ie 2017 / sala de pictură spaniolăMetapictura. Codificări ale artei în sec
 olele XVI-XVIII &nbsp\;\n6 decembrie 2017 / sala de pictură spaniolăViziun
 ile lui El Greco\n7 februarie 2018 / sala de pictură flamandă și olandezăB
 ucătărie flamandă în trei tablouri\n4 aprilie 2018 / sala de pictură veneț
 iană„Suzana și bătrânii” în context: Veneția și Utrecht\, secolul al XVII-
 lea\n6 iunie 2018 / sala de pictură flamandă și olandezăAsamblaje: trei bu
 chete florale din secolele&nbsp\; XVII-XVIII\n&nbsp\; https://devcpanel.mn
 ar.ro/arhiva-evenimentelor/eveniment/181-conferințe-incursiuni-în-galeria-
 de-artă-europeană
DTSTART:20180330T160000Z
DTEND:20180404T173000Z
LOCATION:Muzeul Național de Artă al României - Galeria de Artă Europeană ()
SUMMARY:Conferințe: Incursiuni în Galeria de Artă Europeană
URL:https://devcpanel.mnar.ro/arhiva-evenimentelor/eveniment/181-conferințe
 -incursiuni-în-galeria-de-artă-europeană
END:VEVENT
END:VCALENDAR
