BEGIN:VCALENDAR
VERSION:2.0
PRODID:-//https://mnar.ro///NONSGML kigkonsult.se iCalcreator 2.10.15//
METHOD:PUBLISH
BEGIN:VEVENT
UID:20260421T144302EEST-89011rlNBk@https://mnar.ro/
DTSTAMP:20260421T114302Z
DESCRIPTION:Muzeul Naţional de Artă al Rom&acirc\;niei vă invită să vizitaţ
 i expoziţia Colecţia de Artă Veche Rom&acirc\;nească.150+ deschisă &icirc\
 ;n corpul Ştirbei &icirc\;ncep&acirc\;nd cu data de 30 decembrie 2015 (int
 rarea din strada Ştirbei Vodă nr. 1-3). Curatorii expoziţiei sunt Emanuela
  Cernea şi Lucreţia Pătrăşcanu\, specialişti &icirc\;n cadrul Biroului de 
 Artă Veche Rom&acirc\;nească al MNAR.\nExpoziția Colecţia de Artă Veche Ro
 m&acirc\;nească. 150+ este un demers ce &icirc\;și propune să spună public
 ului povestea Colecției de Artă Veche Rom&acirc\;nească și &icirc\;n acela
 și timp să pună &icirc\;n valoare fondul artistico-documentar Alexandru Od
 obescu/Henri Trenk\, rămas inedit p&acirc\;nă &icirc\;n zilele noastre. Di
 n acest fond sunt expuse 105 desene\, restul\, &icirc\;mpreună cu lucrăril
 e de pictură realizate de Trenk\, sunt incluse &icirc\;n catalog\, care de
 vine astfel prima restituire integrală a fondului Trenk de la MNAR.\nPoves
 tea Colecției de Artă Veche Rom&acirc\;nească &icirc\;ncepe &icirc\;n vara
  anului 1860\, odată cu prima cercetare sistematică a mănăstirilor din Ţar
 a Rom&acirc\;nească\, realizată de Alexandru Odobescu și documentată print
 r-o serie de desene realizate &icirc\;n diferite tehnici de pictorul elveţ
 ian Henri Trenk.\nExpoziţia Colecţia de Artă Veche Rom&acirc\;nească. 150+
  pune &icirc\;n dialog desenele realizate de Trenk cu 31 de capodopere ale
  artei medievale care le-au inspirat &icirc\;n urmă cu 150 de ani. Sunt pr
 ezentate piese inedite din colectia de Artă Veche Rom&acirc\;nească\, care
  si-au recuperat 'istoriile personale' in urma cercetarilor de arhivă\, di
 ntre care amintim: bastonul primului egumen al mănăstirii Hurezi\, br&acir
 c\;iele de mătase ale lui Barbu Craiovescu\, broderii br&acirc\;ncoveneşti
 \, dar şi un epitaf rusesc din vremea țarului Boris Gudunov păstrat la măn
 ăstirea Bistrița.\n&Icirc\;n călătoria sa\, Alexandru Odobescu a descoperi
 t şi a inventariat cele mai valoroase manuscrise\, tipărituri şi obiecte d
 e cult păstrate la vremea aceea &icirc\;n ţară. Toate acestea au fost adus
 e ulterior la Bucureşti pentru a forma Subsecţiunea Ecleziastică a Muzeulu
 i Naţional de Antichităţi\, &icirc\;nﬁinţată pe 1 septembrie 1865. Astfel 
 ia naștere cea mai bogată colecţie de artefacte bizantine şi postbizantine
  din Sud-Estul Europei din acea epocă\, ce va constitui punctul de plecare
 \, dar şi cea mai importantă parte a patrimoniului actualei Galerii de Art
 ă Veche Rom&acirc\;nească din Muzeul Naţional de Artă al Rom&acirc\;niei. 
 https://devcpanel.mnar.ro/arhiva-evenimentelor/eveniment/20-colecţia-de-ar
 tă-veche-românească-150
DTSTART:20151230T070000Z
DTEND:20160430T150000Z
LOCATION:Muzeul Naţional de Artă al României\, intrarea din strada Știrbei 
 Vodă nr. 1-3  (Strada Știrbei Vodă 1-3\, București\, România)
SUMMARY:Colecţia de Artă Veche Românească. 150+
URL:https://devcpanel.mnar.ro/arhiva-evenimentelor/eveniment/20-colecţia-de
 -artă-veche-românească-150
END:VEVENT
END:VCALENDAR
