BEGIN:VCALENDAR
VERSION:2.0
PRODID:-//https://mnar.ro///NONSGML kigkonsult.se iCalcreator 2.10.15//
METHOD:PUBLISH
BEGIN:VEVENT
UID:20260421T144245EEST-8950I63HX7@https://mnar.ro/
DTSTAMP:20260421T114245Z
DESCRIPTION:Anul acesta\, cu ocazia Nopţii muzeelor\, MNAR invită publicul 
 să ia parte la o multitudine de evenimente ce vor avea loc &icirc\;n spaţi
 ile istorice (Sufrageria regală\, Sala Tronului şi Scara Voievozilor)\, &i
 circ\;n Galeria Națională\, &icirc\;n expoziția temporară Oglinzile Orient
 ului deschisă &icirc\;n avanpremieră\, &icirc\;n expozițiaCumințenia Păm&a
 circ\;ntului. Aceasta nu este o piatră\,&nbsp\;precum și &icirc\;n curtea 
 de onoare a muzeului.\nProgramul este următorul:\n&nbsp\;\ns&acirc\;mbătă\
 , 21 mai\n 11.00 &ndash\; 19.00: &nbsp\;Se vizitează cu tarif normal Muzeu
 l K.H. Zambaccian\, Muzeul Theodor Pallady și Muzeul Colecțiilor de Artă. 
 &Icirc\;n intervalul orar 11.00 &ndash\; 19.00 sunt &icirc\;nchise: galeri
 ile permanente și expoziţiile temporare de la sediul&nbsp\; central al MNA
 R.\n19.00 &ndash\; 04.00:\n\nSe vizitează &icirc\;n regim de gratuitate la
  sediul central al MNAR:\n\n&ndash\;&nbsp\;&nbsp\;&nbsp\;&nbsp\;&nbsp\;&nb
 sp\;&nbsp\; Galeria Naţională\; &ndash\;&nbsp\;&nbsp\;&nbsp\;&nbsp\;&nbsp\
 ;&nbsp\;&nbsp\; Spațiile istorice din corpul central al Palatului Regal\;
 \n&ndash\;&nbsp\;&nbsp\;&nbsp\;&nbsp\;&nbsp\;&nbsp\;&nbsp\; Cumințenia Păm
 &acirc\;ntului. Aceasta nu este o piatră-&nbsp\; expoziție documentară org
 anizată &icirc\;n cadrul campaniei de str&acirc\;ngere de fonduri lansată 
 de Ministerul Culturii pentru achiziționarea de către stat a Cumințeniei p
 ăm&acirc\;ntului de Constantin Br&acirc\;ncuși (sala Auditorium)\n&ndash\;
 &nbsp\;&nbsp\;&nbsp\;&nbsp\;&nbsp\;&nbsp\;&nbsp\; 150 de ani de la instaur
 area monarhiei constituționale &icirc\;n Rom&acirc\;nia - expoziție pe gar
 dul de incintă al MNAR\; &ndash\;&nbsp\;&nbsp\;&nbsp\;&nbsp\;&nbsp\;&nbsp\
 ;&nbsp\; Oglinzile Orientului - expoziție eveniment deschisă &icirc\;n ava
 npremieră (parterul Galeriei Naţionale)\;\nExpoziţia Oglinzile Orientului 
 surprinde lumea plină de culoare şi pitoresc a perioadei fanariote\, a Dob
 rogei şi Balcicului\, a mirificului Constantinopol\, dar şi a Orientului A
 propiat sau a nordului Africii. Pentru prima dată &icirc\;n istoria artei 
 autohtone\, tema orientală este tratată &icirc\;n ansamblul ei de-a lungul
  a aproape două secole. Printr-o scenografie expoziţională de excepţie sun
 t prezentate o suită de capodopere ale unor maeştri precum: Theodor Aman\,
  Carol Pop de Szathmari\, Ion Georgescu\, Nicolae Grigorescu\, Iosif Iser\
 , Ştefan Popescu\, Nicolae Tonitza\, Jean Steriadi\, Nicolae Dărăscu\, Vic
 tor Brauner şi mulţi alţii.&nbsp\;\n&ndash\;&nbsp\;&nbsp\;&nbsp\;&nbsp\;&n
 bsp\;&nbsp\;&nbsp\; Instalația Nor de Raluca &amp\; Matei Arnăutu &ndash\;
  parterul Galeriei Naționale.&Icirc\;n cadrul evenimentului\, Instalația&n
 bsp\;Nor &nbsp\;va surprinde vizitatorii\, introduc&acirc\;ndu-i &icirc\;n
  lumea artei rom&acirc\;nești de inspirație orientală\;\n&ndash\;&nbsp\;&n
 bsp\;&nbsp\;&nbsp\;&nbsp\;&nbsp\; Asociația ANTIQVA propune programul muzi
 cal intitulat Follia ... de Noaptea Muzeelor care se va desfășura astfel:
 \nSufrageria regală:\n&nbsp\;&nbsp\; 19.00 &ndash\; 19.15: C.Ph.Em. Bach &
 ndash\; 12 Variations auf die Folie d'Espagne\; Raluca Enea (clavecin)\;\n
 &nbsp\; &nbsp\;19.30 &ndash\; 19.45: A. Corelli &ndash\; Follia\; Melinda 
 B&eacute\;res (vioară barocă)\, Raluca Enea (clavecin)\;\nSala Tronului:\n
 &nbsp\;&nbsp\; 21.00 &ndash\; 22.00: Rameau\, le musicien du Roi\; Csilla 
 Juh&aacute\;sz și Ana Maria Juh&aacute\;sz (dans baroc)\, Mircea Ionescu\,
  Melinda B&eacute\;res (vioară barocă)\, Raluca Enea (clavecin).\n\n&Icirc
 \;n curtea muzeului at&acirc\;t cei mari\, c&acirc\;t și cei mici vor pute
 a transforma timpul de așteptare &icirc\;ntr-o explorare muzicală prin joc
 ul interactiv Namadeus pus la dispoziție publicului prin amabilitatea Biro
 ului de Turism al Vienei. &nbsp\;Totodată\, vor putea viziona filme de ani
 mație din cadrul Festivalului Internațional Animest\, selecționate special
  pentru această ocazie.\n\nduminică\, 22 mai\n11.00 &ndash\; 19.00 se vizi
 tează cu tarif normal: Muzeul Colecțiilor de Artă\, Muzeul K.H. Zambaccian
  și Muzeul Theodor Pallady. Sediul central este &icirc\;nchis.\nMuzeul ben
 eficiază de ghidaj audio realizat &icirc\;n cadrul ediției&nbsp\;Noaptea M
 uzeelor 2016 pe mobil și este disponibil pe izi.TRAVEL&nbsp\; https://devc
 panel.mnar.ro/arhiva-evenimentelor/eveniment/28-noaptea-muzeelor-la-mnar
DTSTART;VALUE=DATE:20160521
LOCATION:Muzeul Național de Artă al României (Calea Victoriei 49-53\, Bucur
 ești\, România)
SUMMARY:NOAPTEA MUZEELOR la MNAR
URL:https://devcpanel.mnar.ro/arhiva-evenimentelor/eveniment/28-noaptea-muz
 eelor-la-mnar
END:VEVENT
END:VCALENDAR
