BEGIN:VCALENDAR
VERSION:2.0
PRODID:-//https://mnar.ro///NONSGML kigkonsult.se iCalcreator 2.10.15//
METHOD:PUBLISH
BEGIN:VEVENT
UID:20260421T144558EEST-0000zZxcd6@https://mnar.ro/
DTSTAMP:20260421T114558Z
DESCRIPTION:Muzeul Național de Artă al Rom&acirc\;niei (MNAR) lansează vine
 ri\, 29 iulie 2016 programul Nocturnă muzeală\, urm&acirc\;nd ca sediul ce
 ntral și muzeele subordonate să fie deschise p&acirc\;nă la orele 22.00 &i
 circ\;n ultimul week-end al fiecărei luni (vineri &ndash\; s&acirc\;mbătă)
 .\n&Icirc\;n mod concret\, vineri\, 29 iulie\, va putea fi vizitată Galeri
 a Națională și expoziția temporară Oglinzile Orientului\, iar s&acirc\;mbă
 tă\, 30 iulie\, Galeria de Artă Europeană și Muzeul Colecțiilor de Artă (C
 alea Victoriei 111)\, Muzeul K.H. Zambaccian (Strada Muzeul Zambaccian\, n
 r. 21 A)\, Muzeul Theodor Pallady (str. Spătarului\, nr. 22). Ultima intra
 re &icirc\;n spațiile expoziționale se va face la ora 21.30.\nDe asemenea\
 , s&acirc\;mbătă\, 30 iulie 2016\, &icirc\;ncep&acirc\;nd cu ora 20.00\, &
 icirc\;n curtea de onoare a sediului central (Calea Victoriei 49 - 53)\, v
 a fi organizată o dezbatere cu tema: Ce vrem să fie MNAR? la care vor fi i
 nvitate să participe personalități din lumea cultural &ndash\; artistică\,
  organizații non&nbsp\; &ndash\; guvernamentale etc.\, precum și cei inter
 esați din r&acirc\;ndul publicului vizitator. https://devcpanel.mnar.ro/ar
 hiva-evenimentelor/eveniment/31-programul-nocturnă-muzeală-la-muzeul-națio
 nal-de-artă-al-româniei
DTSTART:20160729T160000Z
DTEND:20160730T190000Z
LOCATION:Muzeul Național de Artă al României  (Str. Muzeul Zambaccian\, 21 
 A)
SUMMARY:Programul NOCTURNĂ MUZEALĂ la Muzeul Național de Artă al României
URL:https://devcpanel.mnar.ro/arhiva-evenimentelor/eveniment/31-programul-n
 octurnă-muzeală-la-muzeul-național-de-artă-al-româniei
END:VEVENT
END:VCALENDAR
