BEGIN:VCALENDAR
VERSION:2.0
PRODID:-//https://mnar.ro///NONSGML kigkonsult.se iCalcreator 2.10.15//
METHOD:PUBLISH
BEGIN:VEVENT
UID:20260421T144623EEST-2939FWjvcW@https://mnar.ro/
DTSTAMP:20260421T114623Z
DESCRIPTION:Vă așteptăm alături de cei mici&nbsp\;la expoziţia deschisă la 
 parterul Galeriei Naţionale. Vă puteți &icirc\;nscrie printr-un&nbsp\;e-ma
 il la&nbsp\;educatie@art.museum.ro\n\nProgramele pentru familii cu copii d
 e 4 - 7 ani se desfășoară&nbsp\;duminică 17 iulie 2016\, ora 11.05\; &icir
 c\;nscrierile se pot face de luni 11 iulie\, p&acirc\;nă joi 14 iulie 2016
 \;\n\n\nPrograme pentru familii cu copii de 8 - 12 ani&nbsp\;se desfășoară
 &nbsp\;s&acirc\;mbătă 16 iulie 2016\, ora 11.05\; &icirc\;nscrierile se po
 t face de luni 11 iulie\, p&acirc\;nă joi 14 iulie 2016.\n\n&nbsp\;\nExpoz
 iţia &bdquo\;Oglinzile Orientului&rdquo\; reflectă o primă abordare sistem
 atică &icirc\;n istoria artei rom&acirc\;neşti a tematicii inspirate de Or
 ient şi discutarea ei din perspectiva mişcării literare şi artistice care 
 &icirc\;n Occident a fost subsumată orientalismului. Cercetarea iniţiată d
 e Cabinetul de Desene şi Gravuri a presupus examinarea situaţiei speciale 
 a artiştilor rom&acirc\;ni care au evoluat &icirc\;ntr-un spaţiu de graniţ
 ă &icirc\;ntre Orient şi Occident\, cu scopul de a propune includerea unui
  segment important al creaţiei lor &icirc\;n limitele orientalismului. htt
 ps://devcpanel.mnar.ro/arhiva-evenimentelor/eveniment/32-programe-pentru-f
 amilii-în-expoziția-oglinzile-orientului
DTSTART:20160726T082114Z
DTEND:20160925T160000Z
LOCATION:Muzeul Național de Artă al României (Calea Victoriei 49-53\, Bucur
 ești\, România)
SUMMARY:Programe pentru familii în expoziția OGLINZILE ORIENTULUI
URL:https://devcpanel.mnar.ro/arhiva-evenimentelor/eveniment/32-programe-pe
 ntru-familii-în-expoziția-oglinzile-orientului
END:VEVENT
END:VCALENDAR
