BEGIN:VCALENDAR
VERSION:2.0
PRODID:-//https://mnar.ro///NONSGML kigkonsult.se iCalcreator 2.10.15//
METHOD:PUBLISH
BEGIN:VEVENT
UID:20260421T144311EEST-32647E067h@https://mnar.ro/
DTSTAMP:20260421T114311Z
DESCRIPTION:Muzeul Colecţiilor de Artă&nbsp\;vă invită la&nbsp\;Seara Muzea
 lă Şerbana Drăgoescu\, care va avea loc marţi\, 31 mai\, ora 18.00 la sedi
 ul muzeului - Calea Victoriei\, nr. 111.\nArtista&nbsp\;Şerbana Drăgoescu&
 nbsp\;(1 iulie 1943 &ndash\; 11 iunie 2013)\, a cărei donaţie este adăpost
 ită la Muzeul Colecţiilor de Artă\, va fi evocată de&nbsp\;Marin Gherasim\
 ,&nbsp\;preşedinte de onoare al Uniunii Artiştilor Plastici\, Sanda Vişan\
 , realizator TV\, şi criticii de artăRuxandra Garofeanu\, Doina Păuleanu\,
  Mihaela Varga\, Alexandru Titu.\n&Icirc\;n 2014\, patrimoniul Muzeului Co
 lecţiilor de Artă s-a &icirc\;mbogăţit cu o nouă colecţie\, lăsată prin te
 stament de&nbsp\;Şerbana Drăgoescu&nbsp\;cu puţin timp &icirc\;nainte de d
 ispariţia sa.\n\n\n&nbsp\;\n\nColecţia cuprinde 192 de piese\, dintre care
  un lot consistent de lucrări de pictură şi grafică realizate de tatăl don
 atoarei\, pictorul&nbsp\;Radu Drăgoescu\; tapiserii\, cărţi-obiect\, grafi
 că şi pictură &icirc\;n acrilic pe p&acirc\;nză create de&nbsp\;Şerbana Dr
 ăgoescu\; lucrări aparţin&acirc\;nd unor importanţi artişti rom&acirc\;ni\
 , precum&nbsp\;Eustaţiu Stoenescu\, Paul Miracovici\, Ion Gheorghiu\, Marc
 el Chirnoagă. Donaţia mai cuprinde icoane pe lemn realizate &icirc\;n atel
 iere rom&acirc\;neşti şi ruseşti\, c&acirc\;teva obiecte de artă decorativ
 ă din metal şi sticlă\, mobilier &icirc\;n stil neo-rom&acirc\;nesc sau ne
 o-rococo\, care reconstituie sugestiv atmosfera spirituală din casa famili
 ei Drăgoescu.\nDonaţia Şerbana Drăgoescu este expusă &icirc\;n sălile 51 ş
 i 52\, aflate la etajul I\, corpul B al Muzeului Colecţiilor de Artă.\n&nb
 sp\; https://devcpanel.mnar.ro/arhiva-evenimentelor/eveniment/41-seară-muz
 eală-şerbana-drăgoescu
DTSTART:20160531T150000Z
DTEND:20160531T170000Z
LOCATION:Muzeul Colecțiilor de Artă (Calea Victoriei 111\, București\, Româ
 nia)
SUMMARY:Seară muzeală Şerbana Drăgoescu
URL:https://devcpanel.mnar.ro/arhiva-evenimentelor/eveniment/41-seară-muzea
 lă-şerbana-drăgoescu
END:VEVENT
END:VCALENDAR
