BEGIN:VCALENDAR
VERSION:2.0
PRODID:-//https://mnar.ro///NONSGML kigkonsult.se iCalcreator 2.10.15//
METHOD:PUBLISH
BEGIN:VEVENT
UID:20260421T144450EEST-58917TPE5v@https://mnar.ro/
DTSTAMP:20260421T114450Z
DESCRIPTION:Muzeul Național de Artă al României și Ambasada Georgiei în Rom
 ânia vă invită la expoziția „300 de ani de relaţii culturale România – Geo
 rgia”\, deschisă publicului&nbsp\;în perioada 9-24 octombrie în spațiul fo
 stei Sufragerii Regale (intrarea A3\, corpul central MNAR). Expoziția este
  realizată în colaborare cu Biblioteca Parlamentară Națională din Georgia 
 și Universitatea de Stat din Tbilisi.\nPublicul va putea admira 17 publica
 ții realizate la prima tipografie din Georgia\, înființată în anul 1709 de
  către regele Vakhtang al VI-lea cu sprijinul Mitropolitului Antim Ivirean
 ul.\nAlături de acestea\, vor fi expuse și două obiecte din patrimoniul MN
 AR ce prezintă o strânsă legătură cu mitropolitul Antim Ivireanul: un epit
 af donat de acesta Mănăstirii Antim din București în anul 1714 și o Evangh
 elie greco-română cu coperte ferecate\, realizată în tipografia mitropolit
 ului în 1693 și dăruită de domnitorul Constantin Brâncoveanu Mănăstirii Sf
 ântul Ioan cel Nou din București.\nÎn plus\, o serie de fotografii care il
 ustrează relațiile diplomatice dintre cele două state vor veni în completa
 rea parcursului expozițional.\nSufrageria Regală (corpul central MNAR\, in
 trarea A3)Perioada: 9-24 octombrie 2019Program de vizitare: miercuri-dumin
 ică\, orele 10.00-18.00Ultimul acces se face la ora 17.00.Accesul este GRA
 TUIT.\n&nbsp\; https://devcpanel.mnar.ro/arhiva-evenimentelor/eveniment/42
 6-300-de-ani-de-relații-culturale-românia-georgia
DTSTART:20191009T173000Z
DTEND:20191024T180000Z
LOCATION:Muzeul Național de Artă al României (Calea Victoriei 49-53\, Bucur
 ești\, România)
SUMMARY:300 de ani de relații culturale România - Georgia
URL:https://devcpanel.mnar.ro/arhiva-evenimentelor/eveniment/426-300-de-ani
 -de-relații-culturale-românia-georgia
END:VEVENT
END:VCALENDAR
