BEGIN:VCALENDAR
VERSION:2.0
PRODID:-//https://mnar.ro///NONSGML kigkonsult.se iCalcreator 2.10.15//
METHOD:PUBLISH
BEGIN:VEVENT
UID:20260421T144123EEST-2182e38xNe@https://mnar.ro/
DTSTAMP:20260421T114123Z
DESCRIPTION:&Icirc\;n săptăm&acirc\;na 20-25 iunie 2016\, are loc &icirc\;n
  București\, cu ocazia centenarului Dada\, o suită de evenimente culturale
  și științifice\, care aduc alături oameni de teatru\, de film\, critici d
 e artă și cercetători din Rom&acirc\;nia\, Elveția\, Marea Britanie\, Germ
 ania\, Italia\, Belgia\, Ungaria\, China și altele. Săptăm&acirc\;na DADA 
 VIZUAL este organizată de Centrul de Excelență &icirc\;n Studiul Imaginii 
 CESI\, Universitatea din București\, &icirc\;n colaborare cu Biblioteca Ce
 ntrală Universitară &bdquo\;Carol I&rdquo\;\, Muzeul Național de Artă al R
 om&acirc\;niei\, Teatrul UNTEATRU București și Arhiva Națională de Filme &
 minus\; Cinemateca Rom&acirc\;nă.\n\nMiercuri\, 22 iunie\, ora 17.00&minus
 \; Muzeul Național de Artă al Rom&acirc\;niei (Sala Rotondă\, intr. din st
 r. Știrbei Vodă\, nr. 1-3)\n\nDADA CADE-N ARTĂ\nConferențiar: Erwin Kessle
 r\n\nJoi\, 23 iunie\, ora 17.00&minus\; Muzeul Național de Artă al Rom&aci
 rc\;niei (Sala Rotondă\, intr. din str. Știrbei Vodă\, nr. 1-3)\n\nMARCEL 
 IANCU: FIGURILE ȘI LOCURILE\nConferențiar: Sorin Alexandrescu https://devc
 panel.mnar.ro/arhiva-evenimentelor/eveniment/45-dada-vizual-la-mnar
DTSTART:20160622T140000Z
DTEND:20160623T153000Z
LOCATION:Muzeul Național de Artă al României (Calea Victoriei 49-53\, Bucur
 ești\, România)
SUMMARY:DADA Vizual la MNAR
URL:https://devcpanel.mnar.ro/arhiva-evenimentelor/eveniment/45-dada-vizual
 -la-mnar
END:VEVENT
END:VCALENDAR
