BEGIN:VCALENDAR
VERSION:2.0
PRODID:-//https://mnar.ro///NONSGML kigkonsult.se iCalcreator 2.10.15//
METHOD:PUBLISH
BEGIN:VEVENT
UID:20260421T144257EEST-8990trfmu3@https://mnar.ro/
DTSTAMP:20260421T114257Z
DESCRIPTION:Muzeul Naţional de Artă al Rom&acirc\;niei vă invită duminică\,
  3 iulie 2016\, orele12.00\, la un concert de muzică orientală &icirc\;n e
 xpoziţia Oglinzile Orientului\, deschisă la parterul Galeriei Naţionale (c
 uratori Elena Olariu şi Mariana Vida). Concertulva fi susţinut de trioul M
 ultumult\, care ne va introduce &icirc\;n atmosfera muzicii c&acirc\;ntată
  odinioară &icirc\;n Imperiul Otoman.\nExpoziţiaOglinzile Orientului aduce
  &icirc\;n faţa vizitatorilor lumea plină de culoare şi pitoresc a perioad
 ei fanariote\, a Dobrogei şi Balcicului\, a mirificului Constantinopol\, d
 ar şi a Orientului Apropiat. Pentru prima dată &icirc\;n istoria artei aut
 ohtone\, tema orientală este tratată &icirc\;n ansamblul ei. Expoziţia pre
 zintă o suită de capodopere ale unor mari maeştri: Theodor Aman\, Carol Po
 p de Szathmari\, Ion Georgescu\, Nicolae Grigorescu\, Iosif Iser\, Ştefan 
 Popescu\, Nicolae Tonitza\, Jean Steriadi\, Nicolae Dărăscu\, Victor Braun
 er şi mulţi alţii. \n&Icirc\;ntr-o scenografie expoziţională de excepţie v
 ă invităm să ascultaţi acorduri ale muzicii levantine: instrumente exotice
 \, sunete de departe şi condimente. Privit &icirc\;n oglinda magică\, ciuc
 urul devine tertel. Ascultat la Porțile Orientului\, c&acirc\;ntecul ajung
 e poveste. Trioul acustic Multumult &nbsp\;vă invită la un concert alla tu
 rca: motive şi teme din Răsărit. &nbsp\;Halal la MNAR!\nTrioul Multumult e
 ste alcătuit din:\nCălin Torsan \nVictor Podeanu \nMarius Achim \nhttps://
 www.facebook.com/multumult/  https://devcpanel.mnar.ro/arhiva-evenimentelo
 r/eveniment/49-concert-de-muzică-orientală
DTSTART:20160703T090000Z
DTEND:20160703T110000Z
LOCATION:Muzeul Național de Artă al României (Calea Victoriei 49-53\, Bucur
 ești\, România)
SUMMARY:Concert de muzică orientală
URL:https://devcpanel.mnar.ro/arhiva-evenimentelor/eveniment/49-concert-de-
 muzică-orientală
END:VEVENT
END:VCALENDAR
