BEGIN:VCALENDAR
VERSION:2.0
PRODID:-//https://mnar.ro///NONSGML kigkonsult.se iCalcreator 2.10.15//
METHOD:PUBLISH
BEGIN:VEVENT
UID:20260421T144559EEST-88830pUooG@https://mnar.ro/
DTSTAMP:20260421T114559Z
DESCRIPTION: https://devcpanel.mnar.ro/arhiva-evenimentelor/eveniment/5-tur
 -ghidat-în-limba-română-în-spațiile-istorice-ale-palatului-regal
DTSTART:20150919T113000Z
DTEND:20150919T143000Z
LOCATION:Muzeul Național de Artă al României (Calea Victoriei 49-53\, Bucur
 ești\, România)
SUMMARY:Tur ghidat în limba română în spațiile istorice ale palatului Regal
URL:https://devcpanel.mnar.ro/arhiva-evenimentelor/eveniment/5-tur-ghidat-î
 n-limba-română-în-spațiile-istorice-ale-palatului-regal
END:VEVENT
END:VCALENDAR
