BEGIN:VCALENDAR
VERSION:2.0
PRODID:-//https://mnar.ro///NONSGML kigkonsult.se iCalcreator 2.10.15//
METHOD:PUBLISH
BEGIN:VEVENT
UID:20260421T144246EEST-290105HUa6@https://mnar.ro/
DTSTAMP:20260421T114246Z
DESCRIPTION:Muzeul Naţional de Artă al Rom&acirc\;niei continuă seria eveni
 mentelor conexe expoziției Oglinzile Orientului cu o prezentare inedită de
  modă s&acirc\;mbătă\, 9 iulie 2016\, de la ora 17.30. Expoziția este desc
 hisă la parterul Galeriei Naţionale (curatori Elena Olariu şi Mariana Vida
 ).\nUniversitatea Naţională de Arte Bucureşti prezintă &icirc\;n premieră\
 , &icirc\;ntr-un performance\, colecţia de costume-obiect Mit-Trecere\, re
 alizată &icirc\;n cadrul proiectului AAICREA. Directorul proiectului este 
 prof. univ. dr. Doina Lucanu.\nDacă doriți să participați la acest evenime
 nt\, rezervările și confirmările se fac prin e-mail la programari@art.muse
 um.ro sau la telefon 021.314.81.19 p&acirc\;nă vineri\, 8 iulie\, ora 12.0
 0. Locurile disponibile sunt limitate. Biletul de acces costă 10 lei și in
 clude vizitarea expoziției.\nParticipă studenţii anului I master\, coordon
 aţi de prof. univ. dr. Unda Popp\, director al departamentului de Modă din
  cadrul UNARTE\, şi studenţii anilor I şi II licenţă\, coordonaţi de prof.
  univ. dr. Doina Lucanu. https://devcpanel.mnar.ro/arhiva-evenimentelor/ev
 eniment/50-spectacolul-de-modă-mit-trecere
DTSTART:20160709T143000Z
DTEND:20160709T153000Z
LOCATION:Muzeul Național de Artă al României (Calea Victoriei 49-53\, Bucur
 ești\, România)
SUMMARY:Spectacolul de modă MIT - TRECERE
URL:https://devcpanel.mnar.ro/arhiva-evenimentelor/eveniment/50-spectacolul
 -de-modă-mit-trecere
END:VEVENT
END:VCALENDAR
