BEGIN:VCALENDAR
VERSION:2.0
PRODID:-//https://mnar.ro///NONSGML kigkonsult.se iCalcreator 2.10.15//
METHOD:PUBLISH
BEGIN:VEVENT
UID:20260421T144558EEST-8906Z5Pgwg@https://mnar.ro/
DTSTAMP:20260421T114558Z
DESCRIPTION:La Palatul Regal\, sediu al Muzeului Național de Artă al Rom&ac
 irc\;niei\, vor avea loc o parte din ceremoniile prilejuite de funeraliile
  Majestății Sale Regina Ana a Rom&acirc\;niei. Programul este următorul:\n
 Joi\, 11 august 2016 și vineri\, 12 august 2016\, de la ora 8.00 la ora 22
 .00\, toți cei care vor dori să depună flori și să se &icirc\;nchine la ca
 tafalcul Reginei Ana vor putea veni la Sala Tronului de la Palatul Regal. 
 Intrarea este liberă.\nS&acirc\;mbătă\, 13 august 2016\, la ora 10.55\, si
 criul cu corpul ne&icirc\;nsuflețit al Reginei Ana va fi așezat pe un cata
 falc &icirc\;n Piața Palatului Regal\, unde va avea loc o ceremonie religi
 oasă. Accesul publicului &icirc\;n Piața Palatului este liber\, &icirc\;n 
 zonele special amenajate pentru participanți.\nCasa Regală le solicită viz
 itatorilor să fie &icirc\;mbrăcaţi &icirc\;n ţinută corespunzătoare\, să n
 u poarte sacoşe\, genţi sau bagaje voluminoase şi să nu folosească telefoa
 nele mobile sau aparatele foto sau video &ndash\; &icirc\;nregistrarea de 
 imagini fiind strict interzisă. De asemenea\, fumatul nu va fi permis &ici
 rc\;n incinta Palatului Regal. Vizitatorii trebuie să aibă asupra lor şi u
 n act de identitate. Florile sau jerbele aduse de vizitatori trebuie depus
 e &icirc\;n grădina din faţa Palatului\, acestea neput&acirc\;nd fi introd
 use &icirc\;n Sala Tronului.\n&Icirc\;n vederea asigurării participării pu
 blicului la ceremoniile ocazionate de funeraliile Majestății Sale Regina A
 na a Rom&acirc\;niei\, &icirc\;n perioada 2-13 august 2016 accesul &icirc\
 ;n Curtea de Onoare a Muzeului Național de Artă al Rom&acirc\;niei se face
  &icirc\;ntre orele 8.00-22.00. https://devcpanel.mnar.ro/arhiva-eveniment
 elor/eveniment/52-funeraliile-majestății-sale-regina-ana-a-româniei
DTSTART:20160811T050000Z
DTEND:20160813T100000Z
LOCATION:Muzeul Național de Artă al României (Calea Victoriei 49-53\, Bucur
 ești\, România)
SUMMARY:Funeraliile Majestății Sale Regina Ana a României
URL:https://devcpanel.mnar.ro/arhiva-evenimentelor/eveniment/52-funeraliile
 -majestății-sale-regina-ana-a-româniei
END:VEVENT
END:VCALENDAR
