BEGIN:VCALENDAR
VERSION:2.0
PRODID:-//https://mnar.ro///NONSGML kigkonsult.se iCalcreator 2.10.15//
METHOD:PUBLISH
BEGIN:VEVENT
UID:20260421T145314EEST-4649azHE2R@https://mnar.ro/
DTSTAMP:20260421T115314Z
DESCRIPTION: https://devcpanel.mnar.ro/arhiva-evenimentelor/eveniment/6-tur
 -ghidat-în-limba-franceză-în-spațiile-istorice-ale-palatului-regal
DTSTART:20150919T163000Z
DTEND:20150919T183000Z
LOCATION:Muzeul Național de Artă al României (Calea Victoriei 49-53\, Bucur
 ești\, România)
SUMMARY:Tur ghidat în limba franceză în spațiile istorice ale palatului Reg
 al
URL:https://devcpanel.mnar.ro/arhiva-evenimentelor/eveniment/6-tur-ghidat-î
 n-limba-franceză-în-spațiile-istorice-ale-palatului-regal
END:VEVENT
END:VCALENDAR
