BEGIN:VCALENDAR
VERSION:2.0
PRODID:-//https://mnar.ro///NONSGML kigkonsult.se iCalcreator 2.10.15//
METHOD:PUBLISH
BEGIN:VEVENT
UID:20260421T144557EEST-8127cvrfvJ@https://mnar.ro/
DTSTAMP:20260421T114557Z
DESCRIPTION:Cu prilejul comemorării a 300 de ani de la martiriul sf&acirc\;
 ntului Antim Ivireanul\, &icirc\;ntre 28 septembrie &ndash\; 30 octombrie 
 2016\, &icirc\;n Galeria de Artă Veche Rom&acirc\;nească a Muzeului Naţion
 al de Artă al Rom&acirc\;niei va fi expus* pentru prima dată epitaful real
 izat de acesta &icirc\;n anul 1714. Acesta este singura broderie atribuită
  artistului-cărturar care a păstorit cultura şi spiritualitatea rom&acirc\
 ;nească la &icirc\;nceputul veacului al XVIII-lea\, &icirc\;n calitate de 
 mitropolit al Ţării Rom&acirc\;neşti.\nPentru a marca acest eveniment muze
 al\, joi\, 29 septembrie 2016\, de la ora 16.30\, &icirc\;n Galeria de Art
 ă Veche Rom&acirc\;nească va fi organizată conferința Antim Ivireanul &nda
 sh\; floarea cu străluciri de aur a toată arta cea bună\, susținută de păr
 intele arhimandrit Mihail Stanciu. Părintele Mihail Stanciu este doctorand
  al Universităţii Aristotelis din Salonic (Grecia)\, cu o lucrare referito
 are la viața și activitatea mitropolitului Antim Ivireanul. Pe parcursul a
 cestei cercetări &icirc\;ntreprinse &icirc\;n arhivele din țară și din str
 ăinătate au fost aduse la lumină o serie de noi documente ce permit o mai 
 bună &icirc\;nțelegere a personalității marelui cărturar. Părintele arhima
 ndrit Mihail Stanciu a &icirc\;ngrijit de asemenea edițiile critice ale sc
 rierilor lui Antim Ivireanul\, reeditate &icirc\;ncep&acirc\;nd cu anul 20
 10.\n*'Floarea...' este apelativul cu care patriarhul Ierusalimului\, Hris
 ant Notara\, i se adresează lui Antim Ivireanul\, &icirc\;n scrisoarea din
  3 octombrie 1700. Figura de stil insolită\, cu reverberații &icirc\;n num
 ele ierarhului valah (anthos\, gr.= floare)\, &icirc\;i permite autorului 
 să elogieze calitățile artistice de excepție ale viitorului mitropolit al 
 Țării Rom&acirc\;nești.\nPentru a vă &icirc\;nscrie la acest eveniment put
 eți trimite un e-mail la programari@art.museum.rosau să sunați la telefon 
 021.314.81.19.&nbsp\; https://devcpanel.mnar.ro/arhiva-evenimentelor/eveni
 ment/64-antim-ivireanul-floarea-cu-străluciri-de-aur-a-toată-arta-cea-bună
 
DTSTART;VALUE=DATE:20160928
LOCATION:Muzeul Național de Artă al României (Calea Victoriei 49-53\, Bucur
 ești\, România)
SUMMARY:Antim Ivireanul - floarea cu străluciri de aur a toată arta cea bun
 ă
URL:https://devcpanel.mnar.ro/arhiva-evenimentelor/eveniment/64-antim-ivire
 anul-floarea-cu-străluciri-de-aur-a-toată-arta-cea-bună
END:VEVENT
END:VCALENDAR
