BEGIN:VCALENDAR
VERSION:2.0
PRODID:-//https://mnar.ro///NONSGML kigkonsult.se iCalcreator 2.10.15//
METHOD:PUBLISH
BEGIN:VEVENT
UID:20260421T144144EEST-5828Ed2ud4@https://mnar.ro/
DTSTAMP:20260421T114144Z
DESCRIPTION:Muzeul Național de Artă al Rom&acirc\;niei participă la Noaptea
  Albă a Galeriilor cu expoziția &rdquo\;Pierre Alechinsky și scriitorii&rd
 quo\;.\nGăzduită de Sălile Kretzulescu\, expoziția s-a deschis pentru publ
 ic pe 29 septembrie și cuprinde 66 de opere de grafică &ndash\; ilustrație
  de carte\, afiș\, gravură &ndash\; realizate &icirc\;n intervalul 1967-20
 07. Lucrările reflectă raportarea artistului la scriitori consacrați\, pri
 ntre care Michel Butor\, Eug&egrave\;ne Ionesco\, Fran&ccedil\;ois Nouriss
 ier și Emil Cioran.\n Vineri\, 30 septembrie\, programul expoziției va fi 
 prelungit p&acirc\;nă la ora 00.00. https://devcpanel.mnar.ro/arhiva-eveni
 mentelor/eveniment/69-mnar-participă-la-nag10
DTSTART:20160930T160000Z
DTEND:20160930T210000Z
LOCATION:Muzeul Național de Artă al României (Calea Victoriei 49-53\, Bucur
 ești\, România)
SUMMARY:MNAR participă la NAG10
URL:https://devcpanel.mnar.ro/arhiva-evenimentelor/eveniment/69-mnar-partic
 ipă-la-nag10
END:VEVENT
END:VCALENDAR
