BEGIN:VCALENDAR
VERSION:2.0
PRODID:-//https://mnar.ro///NONSGML kigkonsult.se iCalcreator 2.10.15//
METHOD:PUBLISH
BEGIN:VEVENT
UID:20260421T144600EEST-29354gN5UB@https://mnar.ro/
DTSTAMP:20260421T114600Z
DESCRIPTION: https://devcpanel.mnar.ro/arhiva-evenimentelor/eveniment/7-tur
 -ghidat-în-limba-română-în-spațiile-istorice-ale-palatului-regal
DTSTART:20150920T113000Z
DTEND:20150920T140000Z
LOCATION:Muzeul Național de Artă al României (Calea Victoriei 49-53\, Bucur
 ești\, România)
SUMMARY:Tur ghidat în limba română în spațiile istorice ale palatului Regal
  
URL:https://devcpanel.mnar.ro/arhiva-evenimentelor/eveniment/7-tur-ghidat-î
 n-limba-română-în-spațiile-istorice-ale-palatului-regal
END:VEVENT
END:VCALENDAR
