BEGIN:VCALENDAR
VERSION:2.0
PRODID:-//https://mnar.ro///NONSGML kigkonsult.se iCalcreator 2.10.15//
METHOD:PUBLISH
BEGIN:VEVENT
UID:20260421T144248EEST-7991NTrnox@https://mnar.ro/
DTSTAMP:20260421T114248Z
DESCRIPTION:Prima mare expoziție dedicată operei grafice a lui Pierre Alech
 insky deschisă la Muzeul Național de Artă al Rom&acirc\;niei.\nCele 66 de 
 lucrări selecționate din colecția Centrului Gravurii și al Imaginii Imprim
 ate din La Louvi&egrave\;re reflect relația text- imagine așa cum este ea 
 ilustrată de colaborarea dintre artist și mari scriitori precum Michel But
 or\, Eugen Ionescu\, Fran&ccedil\;ois Nourissier și Emil Cioran.\nO expozi
 ție organizată &icirc\;n colaborare cu Delegația Valonia-Bruxelles la Bucu
 rești și Centrul Gravurii și al Imaginii Imprimate din La Louvi&egrave\;re
  (Belgia).\nDeschisă &icirc\;n perioada 29 septembrie 2016 &ndash\; 31 ian
 uarie 2017 &icirc\;n sălile Kretzulescu. https://devcpanel.mnar.ro/arhiva-
 evenimentelor/eveniment/70-pierre-alechinsky-și-scriitorii
DTSTART:20160929T050000Z
DTEND:20170131T132342Z
LOCATION:Muzeul Naţional de Artă al României\, Sălile Kretzulescu (Calea Vi
 ctoriei 49\, București\, România)
SUMMARY:Pierre Alechinsky și scriitorii
URL:https://devcpanel.mnar.ro/arhiva-evenimentelor/eveniment/70-pierre-alec
 hinsky-și-scriitorii
END:VEVENT
END:VCALENDAR
