BEGIN:VCALENDAR
VERSION:2.0
PRODID:-//https://mnar.ro///NONSGML kigkonsult.se iCalcreator 2.10.15//
METHOD:PUBLISH
BEGIN:VEVENT
UID:20260421T144423EEST-4989AxLBg1@https://mnar.ro/
DTSTAMP:20260421T114423Z
DESCRIPTION:Muzeul Național de Artă al Rom&acirc\;niei lansează marți\, 1 n
 oiembrie 2016\, &icirc\;ncep&acirc\;nd cu ora 18.00\, programul &Icirc\;nt
 &acirc\;lnire la muzeu cu o evocare a pictorului Paul Gherasim. Invitați: 
 Constantin Flondor\, Ion Grigorescu\, Matei Lăzărescu\, Horea Paștina\, Mi
 hai S&acirc\;rbulescu. Invitați speciali - Andrei Pleșu și părintele Iusti
 n Marchiș.\n&Icirc\;n cadrul acestei &icirc\;nt&acirc\;lniri va fi evocată
  personalitatea pictorului Paul Gherasim (1925-2016)\, unul din cei mai in
 fluenți artiști și curatori ai ultimelor decenii. Inițiator și organizator
  al unor expoziții de mare impact cultural - &bdquo\;Studiul&rdquo\; (Timi
 șoara\, 1978\, 1981)\, &bdquo\;Străvezimea satului rom&acirc\;nesc&rdquo\;
  (Muzeul Țăranului Rom&acirc\;n\, 2003) - Paul Gherasim nu a fost doar unu
 l dintre fondatorii mișcării artistice &bdquo\;Prolog&rdquo\;\, ci și ment
 orul acesteia p&acirc\;nă la trecerea sa &icirc\;n eternitate la 3 august 
 2016. &Icirc\;nt&acirc\;lnirea\, care va reuni colegi și discipoli ai arti
 stului\, persoane care l-au cunoscut și apreciat\, este deschisă publiculu
 i și presei și face parte din activitățile de pregătire a unei expoziții r
 etrospective dedicate grupării &bdquo\;Prolog&rdquo\; la Muzeul Național d
 e Artă a Rom&acirc\;niei.\n&bdquo\;&Icirc\;n cadrul programului &Icirc\;nt
 &acirc\;lnire la muzeu vor avea loc o serie de conferințe\, dezbateri\, me
 se rotunde la care vor participa personalități din varii domenii ale artei
 \, culturii\, științei\, spiritualității și media\, publicul fiind invitat
  să participe cu propriile intervenții și chestionări&rdquo\;\, a spus Căl
 in Stegerean\, directorul general al MNAR.\nEvenimentul va avea loc &icirc
 \;n Sufrageria Regală\, iar accesul se va face din Calea Victoriei\, nr. 4
 9-53\, corpul A2\; intrarea va fi liberă. &nbsp\; https://devcpanel.mnar.r
 o/arhiva-evenimentelor/eveniment/82-întâlnire-la-muzeu-evocare-paul-gheras
 im
DTSTART:20161101T180000Z
DTEND:20161101T200000Z
LOCATION:Muzeul Național de Artă al României (Calea Victoriei 49-53\, Bucur
 ești\, România)
SUMMARY:Întâlnire la muzeu - Evocare Paul Gherasim
URL:https://devcpanel.mnar.ro/arhiva-evenimentelor/eveniment/82-întâlnire-l
 a-muzeu-evocare-paul-gherasim
END:VEVENT
END:VCALENDAR
