BEGIN:VCALENDAR
VERSION:2.0
PRODID:-//https://mnar.ro///NONSGML kigkonsult.se iCalcreator 2.10.15//
METHOD:PUBLISH
BEGIN:VEVENT
UID:20260423T160721EEST-75106j3V9m@https://mnar.ro/
DTSTAMP:20260423T130721Z
DESCRIPTION:Green light for taking pictures!\nTake a picture of your favour
 ite work of art or a snapshot of your visit to the National Museum of Art 
 of Romania and post it on Facebook using hashtag #concursMNAR or #surprind
 earta. The winning picture is selected based on the number of likes collec
 ted by the end of March. The lucky winner will receive a copy of the bilin
 gual exhibition catalogue The Anatomy of Restoration&nbsp\;!\n*Photography
  is permitted for private use only\, no tripod and no flash. https://devcp
 anel.mnar.ro/en/arhiva-evenimentelor/event/129-contest-art-snapshot
DTSTART:20170401T100000Z
DTEND:20170430T180000Z
LOCATION:Muzeul Național de Artă al României (Calea Victoriei 49-53\, Bucur
 ești\, România)
SUMMARY:Contest: ART SNAPSHOT!
URL:https://devcpanel.mnar.ro/en/arhiva-evenimentelor/event/129-contest-art
 -snapshot
END:VEVENT
END:VCALENDAR
