BEGIN:VCALENDAR
VERSION:2.0
PRODID:-//https://mnar.ro///NONSGML kigkonsult.se iCalcreator 2.10.15//
METHOD:PUBLISH
BEGIN:VEVENT
UID:20260423T160452EEST-7669jjfwd2@https://mnar.ro/
DTSTAMP:20260423T130452Z
DESCRIPTION:Saturday 15 April. The National Museum of Art of Romania\, the 
 Art Collections Museum\, the K.H.Zambaccian Museum and the Theodor Pallady
  Museum are open 10.00 to 15.00 hrs.&nbsp\;Ticket offices close at 14.00 h
 rs.\nClosed Easter Sunday and Easter Monday.\n&nbsp\;\nImage &copy\; Irina
  Necșoi https://devcpanel.mnar.ro/en/arhiva-evenimentelor/event/140-easter
 -2017-opening-hours
DTSTART;VALUE=DATE:20170415
LOCATION:Muzeul Național de Artă al României (Calea Victoriei 49-53\, Bucur
 ești\, România)
SUMMARY:Easter 2017 Opening Hours
URL:https://devcpanel.mnar.ro/en/arhiva-evenimentelor/event/140-easter-2017
 -opening-hours
END:VEVENT
END:VCALENDAR
