BEGIN:VCALENDAR
VERSION:2.0
PRODID:-//https://mnar.ro///NONSGML kigkonsult.se iCalcreator 2.10.15//
METHOD:PUBLISH
BEGIN:VEVENT
UID:20260423T161402EEST-3453Mcd9Xm@https://mnar.ro/
DTSTAMP:20260423T131402Z
DESCRIPTION:The exhibition introduces visitors into the artist&rsquo\;s uni
 verse by bringing paintings\, drawings\, object-books together with tradit
 ional pottery\, glass\, musical instruments and various objects Ştefan C&a
 circ\;lţia collected along the years. Compelling stories narrated by the a
 rtist through the izi.TRAVEL app set an inspiring background for the his c
 reative process and thereby for our understanding of his life and work.\nO
 rganized by The National Museum of Art of Romania and Ştefan C&acirc\;lţia
  &ndash\; Şona FoundationCurators: Liliana Chiriac (Head\, Art Collections
  Museum) and Alexandra Manole (Galeria Posibilă)\nOpen 20 May to 20 Septem
 ber 2017The Art Collections Museum\, Calea Victoriei 111Saturday to Wednes
 day\, 11.00 to 19.00Last admission: 18.00Free every first Wednesday of the
  month https://devcpanel.mnar.ro/en/arhiva-evenimentelor/event/150-last-we
 ek-to-visit-ştefan-câlţia-obiecte-grăitoare-storytelling-objects-\,-art-co
 llections-museum
DTSTART:20170520T110000Z
DTEND:20170920T190000Z
LOCATION:Muzeul Colecțiilor de Artă (Calea Victoriei 111\, București\, Româ
 nia)
SUMMARY:Last week to visit: Ştefan Câlţia. Obiecte grăitoare [Storytelling 
 Objects]\, Art Collections Museum
URL:https://devcpanel.mnar.ro/en/arhiva-evenimentelor/event/150-last-week-t
 o-visit-ştefan-câlţia-obiecte-grăitoare-storytelling-objects-,-art-collect
 ions-museum
END:VEVENT
END:VCALENDAR
