BEGIN:VCALENDAR
VERSION:2.0
PRODID:-//https://mnar.ro///NONSGML kigkonsult.se iCalcreator 2.10.15//
METHOD:PUBLISH
BEGIN:VEVENT
UID:20260423T161050EEST-8638usoKuU@https://mnar.ro/
DTSTAMP:20260423T131050Z
DESCRIPTION:The exhibition brings together 59 prints by TUDOR BANUȘ and 20 
 prints by HONORẺ DAUMIER in an attempt to highlight the manner in which ar
 tists from different periods of time are inspired by the political and soc
 ial context of the day.\nWorks by Tudor Banuș and Honor&eacute\; Daumier b
 lend in various perspectives and prompt onlookers to reflect upon and unde
 rstand the architecture of humanity the two artists constructed at differe
 nt points in time. Their &ldquo\;encounter&rdquo\; highlights the differen
 t manners in which they portray the tensions and anguishes typical of the 
 respective worlds.&nbsp\;\nTudor Banuș (b. 8 July 1947\, Bucharest) gradua
 ted the &ldquo\;Ion Mincu&rdquo\; Institute of Architecture and Urban Plan
 ning in 1971 and one year later left the country to settle in France\, whe
 re he studied oil painting and engraving at the Ecole Nationale Sup&eacute
 \;rieure de Beaux-Arts in Paris. As of 1976 he began to collaborate with m
 ajor newspapers and magazines such as Le Monde\, L'Express\, Le Point\, Le
  Figaro\, Die Zeit\, The New York Times\, The New York Magazine.\nWorld-fa
 mous French illustrator\, painter and sculptor Honor&eacute\; Daumier (180
 8-1879) was one of the most appreciated political cartoonists of his day\,
  and a regular contributor to many magazines and newspapers such as La Sil
 ouhette\, La caricature\, Le Charivari etc.\nCurators: Carmen Cernat\, gra
 phic art specialist and Oana Ionel\, artist.\nNational Museum of Art of Ro
 manian\, Kretzulescu RoomsOpen 6 July to 10 September 2017Visiting hours: 
 Wednesday to Sunday\, 11.00 &ndash\; 19.00Tickets: 10 lei&nbsp\;Free every
  first Wednesday of the month https://devcpanel.mnar.ro/en/arhiva-evenimen
 telor/event/164-last-week-to-visit-encounters-tudor-banuș-honorẻ-daumier
DTSTART:20170706T180000Z
DTEND:20170910T190000Z
LOCATION:Muzeul Naţional de Artă al României\, Sălile Kretzulescu (Calea Vi
 ctoriei 49\, București\, România)
SUMMARY:Last week to visit! Encounters: TUDOR BANUȘ - HONORẺ DAUMIER
URL:https://devcpanel.mnar.ro/en/arhiva-evenimentelor/event/164-last-week-t
 o-visit-encounters-tudor-banuș-honorẻ-daumier
END:VEVENT
END:VCALENDAR
