BEGIN:VCALENDAR
VERSION:2.0
PRODID:-//https://mnar.ro///NONSGML kigkonsult.se iCalcreator 2.10.15//
METHOD:PUBLISH
BEGIN:VEVENT
UID:20260423T160529EEST-4086DTZOdU@https://mnar.ro/
DTSTAMP:20260423T130529Z
DESCRIPTION:&nbsp\;\nThe National Museum of Art of Romania is closed to the
  public from Wednesday\, 11 October until Friday\, 13 October 2017.\nThe A
 rt Collection Museum (Calea Victoriei nr. 111\, Bucharest) is open through
 out the week\, from Monday\, 9 October\, to Sunday\, 15 October.\nThe Zamb
 accian and Theodor Pallady Museums are open.\nTheodor Pallady Museum22 Spă
 tarului Street\, BucharestWednesday to Sunday: 10.00 to 18.00\nK.H. Zambac
 cian Museum21 A\, Muzeul Zambaccian Street\, BucharestWednesday to Sunday:
  10.00 to 18.00\n* From Saturday\, October 14\, the museum returns to its 
 regular opening hours. https://devcpanel.mnar.ro/en/arhiva-evenimentelor/e
 vent/186-9-13-october-special-openning-programme
DTSTART:20171009T100000Z
DTEND:20171015T180000Z
LOCATION:Muzeul Național de Artă al României (Calea Victoriei 49-53\, Bucur
 ești\, România)
SUMMARY:9-13 OCTOBER SPECIAL OPENNING PROGRAMME 
URL:https://devcpanel.mnar.ro/en/arhiva-evenimentelor/event/186-9-13-octobe
 r-special-openning-programme
END:VEVENT
END:VCALENDAR
