BEGIN:VCALENDAR
VERSION:2.0
PRODID:-//https://mnar.ro///NONSGML kigkonsult.se iCalcreator 2.10.15//
METHOD:PUBLISH
BEGIN:VEVENT
UID:20260423T160555EEST-7353Lg2xHE@https://mnar.ro/
DTSTAMP:20260423T130555Z
DESCRIPTION: https://devcpanel.mnar.ro/en/arhiva-evenimentelor/event/220-se
 ason-s-greetings
DTSTART:20171224T100000Z
DTEND:20180107T180000Z
LOCATION:Muzeul Național de Artă al României (Calea Victoriei 49-53\, Bucur
 ești\, România)
SUMMARY:Season's greetings! 
URL:https://devcpanel.mnar.ro/en/arhiva-evenimentelor/event/220-season-s-gr
 eetings
END:VEVENT
END:VCALENDAR
