BEGIN:VCALENDAR
VERSION:2.0
PRODID:-//https://mnar.ro///NONSGML kigkonsult.se iCalcreator 2.10.15//
METHOD:PUBLISH
BEGIN:VEVENT
UID:20260423T145559EEST-1578eiI2GF@https://mnar.ro/
DTSTAMP:20260423T115559Z
DESCRIPTION:Muzeul Naţional de Artă al României (MNAR) şi Centrul Naţional 
 al Dansului Bucureşti (CNDB) invită publicul la&nbsp\;Studioul Artele Plas
 tice şi Dansul. Programul 10\, eveniment ce va avea loc&nbsp\;sâmbătă\,&nb
 sp\;30 ianuarie 2016\,&nbsp\;ora 12.00&nbsp\;la sediul muzeului (MNAR)\, C
 alea Victoriei\, 49 – 53\, la parterul Galeriei Naționale.\nStudioul Artel
 e Plastice şi Dansul. Programul 10&nbsp\;este o întâlnire între artele viz
 uale\, artele performative şi istoria culturală a cooperării dintre aceste
 a\, văzută critic prin ochii Valentinei Iancu\, curatoarea expoziţiei&nbsp
 \;Egal. Artă şi feminism în România modernă. Evenimentul va cuprindespecta
 colul&nbsp\;Reenacting Lizica Codreanu\, o reconstrucție scenică realizată
  de elevele Liceului de Coregrafie „Floria Capsali” din București (coregra
 f: Doina Georgescu\, costume: Cristian Marin). După performance\, doamna L
 iana Tugearu\, istoric de artă și critic de dans\, cercetătorii Corina Cim
 poieru și Igor Mocanu vor discuta cu publicul despre câteva dintre coregra
 fele importante ale istoriei dansului contemporan românesc. Evenimentul va
  include&nbsp\;şi o serie de proiecții video inedite.\nReenacting Lizica C
 odreanu -&nbsp\;În 1922\, sculptorul Constantin Brâncuși a confecționat un
  costum de dans pentru Lizica Codreanu\, a pus vinilul cu Gymnopediile lui
  Erik Satie la picup și a invitat-o pe Lizica Codreanu să creeze un dans î
 n atelierul său\, printre sculpturi. Toată acțiunea a fost documentată de 
 Brâncuși cu ajutorul unui aparat de fotografiat. În 1995\, regizorul Corne
 l Mihalache\, cu ajutorul Getei Solomon\, reconstituia costumul Lizicăi Co
 dreanu după imaginile din 1922 și îi propunea Vavei Ștefănescu unreenactme
 nt&nbsp\;aparent imposibil: să refacă dansul din atelierul sculptorului pe
  muzica lui Satie. În 2015\, CNDB provoacă Liceul de Coregrafie „Floria Ca
 psali” să reconstuite dansul Lizicăi Codreanu după muzica lui Satie şi cu 
 costume de Cristian Marin.\nStudioul Artele Plastice şi Dansul (Programele
  1-9)&nbsp\;a fost un maraton interdisciplinar de programe vizuale şi core
 grafice\, curatoriat de Liana Tugearu în anii ’80 la Muzeul Naţional de Ar
 tă al RSR\, care s-a bucurat de participarea istoricilor de artă: Carmen B
 rad\, Liana Tugearu\, Ioana Beldiman\, Codruţa Cruceanu\, Andrei Paleolog\
 , Elena Mateescu şi Suzana Heitel şi a coregrafilor: Raluca Ianegic\, Ioan
  Tugearu\, Vera Proca-Ciortea\, Sergiu Anghel\, Alexa Mezincescu şi Rose M
 arie Bot Stocec. https://devcpanel.mnar.ro/en/arhiva-evenimentelor/event/2
 6-studioul-artelel-plastice-și-dansul-programul-10
DTSTART;VALUE=DATE:20160130
LOCATION:Muzeul Naţional de Artă al României\, parterul Galeriei Naţionale 
 (Calea Victoriei 49\, București\, România)
SUMMARY:Studioul ARTELEL PLASTICE ȘI DANSUL. Programul 10
URL:https://devcpanel.mnar.ro/en/arhiva-evenimentelor/event/26-studioul-art
 elel-plastice-și-dansul-programul-10
END:VEVENT
END:VCALENDAR
