BEGIN:VCALENDAR
VERSION:2.0
PRODID:-//https://mnar.ro///NONSGML kigkonsult.se iCalcreator 2.10.15//
METHOD:PUBLISH
BEGIN:VEVENT
UID:20260423T150002EEST-2493PoUm2P@https://mnar.ro/
DTSTAMP:20260423T120002Z
DESCRIPTION:... https://devcpanel.mnar.ro/en/arhiva-evenimentelor/event/3-u
 n-ceas-pentru-artă-în-expoziţia-constantin-popovici-și-seducția-modernităț
 ii
DTSTART;VALUE=DATE:20150917
LOCATION:Muzeul Național de Artă al României (Calea Victoriei 49-53\, Bucur
 ești\, România)
SUMMARY:Un ceas pentru artă în expoziţia CONSTANTIN POPOVICI ȘI SEDUCȚIA MO
 DERNITĂȚII
URL:https://devcpanel.mnar.ro/en/arhiva-evenimentelor/event/3-un-ceas-pentr
 u-artă-în-expoziţia-constantin-popovici-și-seducția-modernității
END:VEVENT
END:VCALENDAR
