BEGIN:VCALENDAR
VERSION:2.0
PRODID:-//https://mnar.ro///NONSGML kigkonsult.se iCalcreator 2.10.15//
METHOD:PUBLISH
BEGIN:VEVENT
UID:20260423T160727EEST-7709lwUP6w@https://mnar.ro/
DTSTAMP:20260423T130727Z
DESCRIPTION:Long before an exhibition opens\, objects are reviewed\, their 
 condition scrutinized and\, depending on it\, further treatment discussed 
 by curators and restorers to ensure they can be safely displayed.\nConserv
 ation Lab: Old Master Paintings Restored opens a series of micro-exhibitio
 ns aimed at showcasing the museum’s various conservation labs and their co
 ntribution to the research and preservation of the museum’s collections.\n
 As paintings are studied and their original aspect recovered\, authorship 
 and dating may change as various stories about original artist practices e
 merge after centuries of neglect and shifting art historical perspectives.
 \n&nbsp\;\nNational Museum of Art of Romania\, The European Art Gallery\, 
 first floor 21 July to 23 SeptemberVisiting hours: Wednesday to Sunday\, f
 rom 10 to 18Free: every first Wednesday of the month\n https://devcpanel.m
 nar.ro/en/arhiva-evenimentelor/event/303-conservation-lab-old-master-paint
 ings-restored
DTSTART:20180721T100000Z
DTEND:20180923T180000Z
LOCATION:Muzeul Național de Artă al României - Galeria de Artă Europeană ()
SUMMARY:Conservation Lab: Old Master Paintings Restored 
URL:https://devcpanel.mnar.ro/en/arhiva-evenimentelor/event/303-conservatio
 n-lab-old-master-paintings-restored
END:VEVENT
END:VCALENDAR
