BEGIN:VCALENDAR
VERSION:2.0
PRODID:-//https://mnar.ro///NONSGML kigkonsult.se iCalcreator 2.10.15//
METHOD:PUBLISH
BEGIN:VEVENT
UID:20260423T161233EEST-92083mvvLz@https://mnar.ro/
DTSTAMP:20260423T131233Z
DESCRIPTION:The exhibition focuses on a number of works from the Société Gé
 nérale collection which highlight recent developments in painting\, sculpt
 ure\, and photography. In so doing it reflects the collection’s diversity 
 with regard to subject matter\, media and style as much as its broad gener
 ational and geographical coverage. Works are organized around several idea
 s drawn from Georges Perec’s 1974 book Espèces d’espaces (Species of Space
 s)\, which frames a poetic typology of places and the human behaviours the
 y dictate. The practice of four of the twenty-four selected artists (Farah
  Atassi\, Julien Prévieux\, Danica Dakić\, and Florian &amp\; Michael Quis
 trebert) is subjected to closer investigation\, thus generating four “stud
 y-cases”.\nThe exhibition design by Ideogram Studio contributes to the dia
 logue through a series of ‘corners’ which create four imaginary ‘rooms’. T
 he new limits and dynamic thus created highlight the juxtaposition of diff
 erent shapes\, the varying intensity and resonance of spatial imagination 
 as expressed by the works on display.\nThe exhibition is part of the Franc
 e-Romania 2019 cultural season.\nCurator: Mihnea MircanExhibition design: 
 Ideogram StudioGraphic design: Larisa Sitar18 April – 14 July 2019National
  Gallery – Ground floorVisiting Hours: Wednesday to Sunday\, 10.00 to18.00
 Last admission: 17.00 hoursTickets: 10 lei Free: every first Wednesday of 
 the month https://devcpanel.mnar.ro/en/arhiva-evenimentelor/event/384-spec
 ies-of-spaces-–-works-from-the-société-générale-collection
DTSTART:20190419T100000Z
DTEND:20190714T180000Z
LOCATION:Muzeul Naţional de Artă al României\, parterul Galeriei Naţionale 
 (Calea Victoriei 49\, București\, România)
SUMMARY:Species of Spaces – Works from the Société Générale Collection
URL:https://devcpanel.mnar.ro/en/arhiva-evenimentelor/event/384-species-of-
 spaces-–-works-from-the-société-générale-collection
END:VEVENT
END:VCALENDAR
