BEGIN:VCALENDAR
VERSION:2.0
PRODID:-//https://mnar.ro///NONSGML kigkonsult.se iCalcreator 2.10.15//
METHOD:PUBLISH
BEGIN:VEVENT
UID:20260423T160625EEST-9623savJw6@https://mnar.ro/
DTSTAMP:20260423T130625Z
DESCRIPTION:Visit the World Press Photo Exhibition 2019 on its world-wide t
 our showcasing the stories that matter with photography from the 62nd annu
 al World Press Photo contest.The winners were chosen by an independent jur
 y that reviewed more than 78\,801 photographs entered by 4\,738 photograph
 ers from 129 countries.\n8 – 26 May 2019Entrance at Stirbei Vodă St.\, no.
  1-3National Gallery - groundfloorVisiting Hours: Wednesday to Sunday\, 10
 .00 to18.00Last admission: 17.00 hoursTickets: 10 lei Free: every first We
 dnesday of the month https://devcpanel.mnar.ro/en/arhiva-evenimentelor/eve
 nt/390-world-press-photo-2019
DTSTART:20190506T190000Z
DTEND:20190526T180000Z
LOCATION:Muzeul Naţional de Artă al României\, intrarea din strada Știrbei 
 Vodă nr. 1-3  (Strada Știrbei Vodă 1-3\, București\, România)
SUMMARY:World Press Photo 2019
URL:https://devcpanel.mnar.ro/en/arhiva-evenimentelor/event/390-world-press
 -photo-2019
END:VEVENT
END:VCALENDAR
