BEGIN:VCALENDAR
VERSION:2.0
PRODID:-//https://mnar.ro///NONSGML kigkonsult.se iCalcreator 2.10.15//
METHOD:PUBLISH
BEGIN:VEVENT
UID:20260423T160626EEST-2883vvvhLD@https://mnar.ro/
DTSTAMP:20260423T130626Z
DESCRIPTION:This October\, don’t miss the Royal Palace Throne Hall.\nVisit 
 the Royal Palace in Bucharest and admire the Throne Hall\, the Royal Dinin
 g Room\, and the Voivodes’ Stairs. Open every Tuesdays for individual tour
 s and on Saturday 19 and Sunday 20 October for guided tours. Seize the cha
 nce to discover the past wandering through the space and looking at vintag
 e photographs which offer a glimpse into the history of the royal family a
 nd the Royal Palace. To hear more of the story contact us for a guided tou
 r of Royal Palace in English at&nbsp\;021.313.30.30 int 923.&nbsp\;\nOpeni
 ng hours (individual visits):Tuesday\, 8\, 15\, 22 and 29 October\, 2019\,
  10:00 - 17:00 (last admission)\nTickets: 10 lei\nGuided tours (in Romania
 n):Saturday\, 19 October\, 2019: 11:30 AM\, 2:00 PM and 4:30 PMSunday\, 20
  Octorber\, 2019: 11:30 AM\, 2:00 PM and 4:30 PM\nTickets: 20 lei/person\n
 &nbsp\;More information on tours of the historical spaces of the Royal Pal
 ace here. https://devcpanel.mnar.ro/en/arhiva-evenimentelor/event/400-roya
 l-palace-throne-hall-open
DTSTART:20190702T100000Z
DTEND:20191029T180000Z
LOCATION:Muzeul Național de Artă al României (Calea Victoriei 49-53\, Bucur
 ești\, România)
SUMMARY:Royal Palace Throne Hall Open
URL:https://devcpanel.mnar.ro/en/arhiva-evenimentelor/event/400-royal-palac
 e-throne-hall-open
END:VEVENT
END:VCALENDAR
