BEGIN:VCALENDAR
VERSION:2.0
PRODID:-//https://mnar.ro///NONSGML kigkonsult.se iCalcreator 2.10.15//
METHOD:PUBLISH
BEGIN:VEVENT
UID:20260423T160736EEST-8121sDwVVv@https://mnar.ro/
DTSTAMP:20260423T130736Z
DESCRIPTION:This is the first major presentation of Alechinsky&rsquo\;s gra
 phic oeuvre at the Museum.\nSixty-six works selected from the collection o
 f the Centre de la Gravure et de l&rsquo\;Image Imprim&eacute\;e in La Lou
 vi&egrave\;re (Belgium) explore the close relationship established between
  text and image as illustrated by the collaboration between the artist and
  famous writers such as Michel Butor\, Eug&egrave\;ne Ionesco\, Fran&ccedi
 l\;ois Nourissier and Emil Cioran.\nAn exhibition organized by the Delegat
 ion of the Federation Wallonia-Brussels and the Centre de la Gravure et de
  l&rsquo\;Image Imprim&eacute\;e in La Louvi&egrave\;re (Belgium).\nOpen f
 rom 29 September 2016 until 31 January 2017 in the Kretzulescu Rooms. http
 s://devcpanel.mnar.ro/en/arhiva-evenimentelor/event/73-pierre-alechinsky-a
 nd-the-writers
DTSTART:20160929T093201Z
DTEND:20170131T123201Z
LOCATION:Muzeul Naţional de Artă al României\, Sălile Kretzulescu (Calea Vi
 ctoriei 49\, București\, România)
SUMMARY:Pierre Alechinsky and the Writers
URL:https://devcpanel.mnar.ro/en/arhiva-evenimentelor/event/73-pierre-alech
 insky-and-the-writers
END:VEVENT
END:VCALENDAR
