BEGIN:VCALENDAR
VERSION:2.0
PRODID:-//https://mnar.ro///NONSGML kigkonsult.se iCalcreator 2.10.15//
METHOD:PUBLISH
BEGIN:VEVENT
UID:20260423T162142EEST-6695lv4AD9@https://mnar.ro/
DTSTAMP:20260423T132142Z
DESCRIPTION:Lectures\, public debates\, roundtables with invited speakers f
 rom various fields bring into discussion art and culture related topics. T
 he floor will be open to members of the audience.\nThe first meeting is de
 dicated to Paul Gherasim (1925 &ndash\; 2016)\, founder of the Romanian gr
 oup Prologue and one of the most influential artists of his generation. Gh
 erasim also curated exhibitions such as &ldquo\;Studiul&rdquo\; ( The Stud
 y\; Timișoara\, 1978\, 1981) and &ldquo\;Străvezimea satului rom&acirc\;ne
 sc&rdquo\; (See Through - The Romanian Village\; Bucharest\, Romanian Peas
 ant Museum\, 2003) which became important landmarks in contemporary Romani
 an art.\nArtists Constantin Flondor\, Ion Grigorescu\, Matei Lăzărescu\, H
 orea Paștina\, Mihai S&acirc\;rbulescu along special guests Andrei Pleșu a
 nd Father Iustin Marchiș will speak about Paul Gherasim&rsquo\;s role as a
 n artist and a spiritual mentor.\nNational Museum of Art of Romania\, 49-5
 3 Calea Victoriei (A2 entrance\, Central Wing). Entry is free. The event i
 s in Romanian only. https://devcpanel.mnar.ro/en/arhiva-evenimentelor/even
 t/86-new-programme-launch-tuesday\,-1-november-2016\,-at-18-00-museum-meet
 ings
DTSTART:20161101T180000Z
DTEND:20161101T200000Z
LOCATION:Muzeul Național de Artă al României (Calea Victoriei 49-53\, Bucur
 ești\, România)
SUMMARY:New programme launch Tuesday\, 1 November 2016\, at 18.00. Museum M
 eetings.
URL:https://devcpanel.mnar.ro/en/arhiva-evenimentelor/event/86-new-programm
 e-launch-tuesday,-1-november-2016,-at-18-00-museum-meetings
END:VEVENT
END:VCALENDAR
