BEGIN:VCALENDAR
VERSION:2.0
PRODID:-//https://mnar.ro///NONSGML kigkonsult.se iCalcreator 2.10.15//
METHOD:PUBLISH
BEGIN:VEVENT
UID:20260423T150014EEST-7350J1nHm9@https://mnar.ro/
DTSTAMP:20260423T120014Z
DESCRIPTION: https://devcpanel.mnar.ro/en/arhiva-evenimentelor/event/9-un-c
 eas-pentru-artă-în-expoziţia-constantin-popovici-și-seducția-modernității
DTSTART;VALUE=DATE:20150926
LOCATION:Muzeul Național de Artă al României (Calea Victoriei 49-53\, Bucur
 ești\, România)
SUMMARY:Un ceas pentru artă în expoziţia CONSTANTIN POPOVICI ȘI SEDUCȚIA MO
 DERNITĂȚII
URL:https://devcpanel.mnar.ro/en/arhiva-evenimentelor/event/9-un-ceas-pentr
 u-artă-în-expoziţia-constantin-popovici-și-seducția-modernității
END:VEVENT
END:VCALENDAR
