BEGIN:VCALENDAR
VERSION:2.0
PRODID:-//https://mnar.ro///NONSGML kigkonsult.se iCalcreator 2.10.15//
METHOD:PUBLISH
BEGIN:VEVENT
UID:20260421T131928EEST-10006EBO2l@https://mnar.ro/
DTSTAMP:20260421T101928Z
DESCRIPTION:Duminică\, 18 mai\, ora 15.00\, la Muzeul Colecțiilor de Artă\,
  vă așteptăm la o vizită ghidată în Colecţia Dr. Iosif N. Dona\, dedicată 
 artistului Nicolae Grigorescu\, maestrul artei românești moderne.\nÎn peri
 oada interbelică se spunea că pentru a-l înțelege cu adevărat pe Grigoresc
 u\, iubitorii de artă trebuie să vadă colecția doctorului Dona.\nColecţia 
 Dr. Iosif N. Dona constituie o istorie vizuală concentrată a artei româneş
 ti de la mijlocul secolului al XIX-lea până la mijlocul secolului al XX-le
 a.Iosif Dona (1875-1956)\, fiul generalului Nicolae Dona\, a fost crescut 
 într-o ambianţă de rafinament cultural\, evoluând la rândul său într-un me
 diu de scriitori şi artişti. Reputat medic balneolog\, s-a remarcat prin c
 ontribuţia esenţială la organizarea staţiunii Techirghiol şi la modernizar
 ea amenajărilor de la Eforie Nord şi Eforie Sud. Printre pacienţii săi s-a
 u numărat personalităţi de seamă\, atât scriitori sau istorici\, precum Ba
 rbu Ştefănescu Delavrancea\, Nicolae Iorga\, Lucian Blaga\, cât şi pictori
  precum Nicolae Grigorescu\, Gheorghe Petraşcu\, Theodor Pallady\, Iosif I
 ser\, Jean Al. Steriadi\, Nicolae Tonitza\, Alexandru Ciucurencu\, astfel 
 încât\, în epocă\, I.N. Dona era cunoscut ca medicul artiştilor.Segmentul 
 colecției dedicat maestrului Nicolae Grigorescu cuprinde lucrări din toate
  etapele activității artistice\, toate subiectele abordate\, prezentând el
 ocvent prin calitatea lucrărilor atât evoluția artistului in mediul artist
 ic internațional\, cât si faima sa pe plan local.\nPrezentarea va evoca re
 lația artistului cu familia Dona\, comenzile si achizițiile făcute de fami
 lie\, moștenirea primită de doctorul Dona si îmbunătățirea fondului moșten
 it de acesta pe tot parcursul vieții\, cu eforturi considerabile. https://
 devcpanel.mnar.ro/evenimente-muzeu/eveniment/822-vizită-ghidată-în-colecţi
 a-dr-iosif-n-dona\,-dedicată-artistului-nicolae-grigorescu
DTSTART:20250517T120019Z
DTEND:20250517T140019Z
LOCATION:Muzeul Colecțiilor de Artă (Calea Victoriei 111\, București\, Româ
 nia)
SUMMARY: Vizită ghidată în Colecţia Dr. Iosif N. Dona\, dedicată artistului
  Nicolae Grigorescu
URL:https://devcpanel.mnar.ro/evenimente-muzeu/eveniment/822-vizită-ghidată
 -în-colecţia-dr-iosif-n-dona,-dedicată-artistului-nicolae-grigorescu
END:VEVENT
END:VCALENDAR
