BEGIN:VCALENDAR
VERSION:2.0
PRODID:-//https://mnar.ro///NONSGML kigkonsult.se iCalcreator 2.10.15//
METHOD:PUBLISH
BEGIN:VEVENT
UID:20260421T131603EEST-89523iF9ZO@https://mnar.ro/
DTSTAMP:20260421T101603Z
DESCRIPTION:Muzeul Național de Artă al României\, alături de Happy Cinema\,
  propun iubitorilor de muzică\, balet\, operă și film un eveniment conex d
 esfășurat sub egida Festivalului Internațional George Enescu: proiecții de
  spectacole Royal Ballet &amp\; Opera din Londra. Stagiunea 2024-2025 în S
 ala Auditorium\, în perioada 3-19 septembrie 2025. &nbsp\;\nAceastă stagiu
 ne aduce în fața publicului din București unele dintre cele mai apreciate 
 producții ale scenei londoneze: „Nunta lui Figaro”\, „Turandot”\, „Lacul l
 ebedelor”\, „Spărgătorul de nuci”\, dar și creații moderne de balet sau sp
 ectacole vizuale impresionante\, precum „Alice în Țara Minunilor” și „Bale
 t pe Broadway: Operele lui Wheeldon”. Toate acestea pot fi vizionate la Mu
 zeul Național de Artă al României\, în completarea concertelor de excepție
  din cadrul Festivalului Internațional George Enescu.\nAvând o capacitate 
 de peste 440 de locuri\, Sala Auditorium se află în corpul Știrbei al Muze
 ului Național de Artă al României și este dotată cu echipamente tehnice pe
 rformante\, ce permit organizarea de concerte și vizionări de filme\, chia
 r în inima Bucureștiului.\n„Prin programul de filme cu subiect muzical\, d
 e la Royal Ballet &amp\; Opera din Londra\, Muzeul Național de Artă al Rom
 âniei devine un protagonist al sferei muzicale și totodată cinematografice
 \, o platformă pe care se pot reuni iubitorii vizualului\, ai sunetului și
  ai dansului\, într-un spațiu unic\, istoric\, generos și fastuos - Palatu
 l Regal\, un veritabil jalon al calității vieții culturale din România.” E
 rvin Kesler\, director general interimar Muzeul Național de Artă al Români
 ei\n „Ne bucurăm să continuăm parteneriatul cu Muzeul Național de Artă al 
 României și să aducem mai aproape de publicul din București aceste producț
 ii excepționale ale Operei și Baletului Regal din Londra. Este o inițiativ
 ă care îmbină arta cinematografică\, muzica clasică și dansul\, într-o for
 mă accesibilă și elegantă\, chiar în cadrul prestigiosului Festival Enescu
 .” Ecaterina Mateescu\, administrator Happy Cinema\nPublicul este invitat 
 să pătrundă în universul fascinant al Operei Regale și al Baletului Regal 
 din Londra printr-o serie de proiecții spectaculoase\, ce aduc pe marele e
 cran strălucirea scenei de la Covent Garden. De la farsa amoroasă plină de
  rafinament din „Nunta lui Figaro”\, la magica lume din „Alice în Țara Min
 unilor”\, stagiunea continuă cu dramatismul intens al operei „Turandot” și
  cu feeria întunecată a capodoperei „Povestirile lui Hoffmann”.\nBaletul c
 lasic strălucește cu titluri îndrăgite precum „Cenușăreasa”\, „Romeo și Ju
 lieta” sau „Spărgătorul de nuci\, în timp ce „Balet pe Broadway: Operele l
 ui Wheeldon” aduce un suflu contemporan\, plin de ritm și emoție. Seria de
  proiecții se încheie în eleganța atemporală din „Lacul lebedelor”\, într-
 o interpretare grandioasă care învăluie stagiunea într-o notă de vis.\nPro
 gram:\n\nMiercuri\, 3 septembrie 2025\, ora 17:00\, proiecție „Opera Regal
 ă: Nunta lui Figaro” (240 min.\, cu o pauză)\nJoi\, 4 septembrie 2025\, or
 a 17:00\, proiecție „Baletul Regal: Alice în Țara Minunilor” (205 min.\, c
 u două pauze)\nVineri\, 5 septembrie 2025\, ora 17:00\, proiecție „Opera R
 egală: Turandot” (205 min.\, cu două pauze)\nMiercuri\, 10 septembrie 2025
 \, ora 17:00\, proiecție „Opera Regală: Povestirile lui Hoffman” (245 min.
 \, cu două pauze)\nJoi\, 11 septembrie 2025\, ora 17:00\, proiecție „Balet
 ul Regal: Cenușăreasa” (195 min.\, cu două pauze)\nVineri\, 12 septembrie 
 2025\, ora17:00\, proiecție „Baletul: Regal Romeo și Julieta” (210 min.\, 
 cu două pauze)\nMiercuri\, 17 septembrie 2025\, ora 17:00\, proiecție „Bal
 etul Regal: Balet pe Broadway: Operele lui Wheeldon” (180 min.)\nJoi\, 18 
 septembrie 2025\, ora19.00\, proiecție „Baletul Regal: Spărgătorul de nuci
 ” (165 min.\, cu o pauză)\nVineri\, 19 septembrie 2025\, ora 17:00\, proie
 cție „Baletul Regal: Lacul lebedelor” (210 min.\, cu două pauze)\n\nFestiv
 alul Internațional George Enescu\, aflat la cea de-a XXVII-a ediție\, se d
 esfășoară în perioada 24 august - 21 septembrie 2025 și include serii de c
 oncerte la Sala Palatului\, Concertele de la Ateneu\, Concertele de la Mie
 zul Nopții\, Concertele de la Sala Radio\, Concertele de la Sala Auditoriu
 m a Muzeului Național de Artă al României.\nFestivalul Internațional Georg
 e Enescu este un eveniment desfășurat sub Înaltul Patronaj al Președintelu
 i României. Proiect cultural finanțat de Guvernul României prin Ministerul
  Culturii. Organizator: ARTEXIM\nHappy Cinema este un lanț de cinematograf
 e cu un capital 100% românesc. Colaborarea cu Muzeul Național de Artă al R
 omâniei reprezintă o punte între lumea cinematografiei și cea a artelor vi
 zuale și contribuie la promovarea și diversificarea ofertei culturale din 
 Capitală.\nPrin proiecțiile din incinta Muzeul Național de Artă al Românie
 i\, spectatorii au oportunitatea a descoperi capodopere cinematografice în
 tr-o elegantă ambianță culturală și istorică.\nPreț bilet: 60 lei Biletele
  pot fi achiziționate online de pe:\n\nhappycinema.ro\nfestivalenescu.ro\n
 \nAdresă: Muzeul Național de Artă al României – Sala Auditorium\, Str. Ști
 rbei Vodă nr. 1\, București\nPentru mai multe informații\, vă invităm să u
 rmăriți canalele oficiale ale:\n\nMuzeului Național de Artă al României: m
 nar.ro\nFestivalului Internațional George Enescu: festivalenescu.ro\nHappy
  Cinema: happycinema.ro\n https://devcpanel.mnar.ro/evenimente-muzeu/eveni
 ment/837-proiecții-de-spectacole-royal-ballet-opera-din-londra-la-mnar
DTSTART:20250817T210000Z
DTEND:20250918T210000Z
LOCATION:Muzeul Naţional de Artă al României\, intrarea din strada Știrbei 
 Vodă nr. 1-3  (Strada Știrbei Vodă 1-3\, București\, România)
SUMMARY:Proiecții de spectacole Royal Ballet & Opera din Londra la MNAR
URL:https://devcpanel.mnar.ro/evenimente-muzeu/eveniment/837-proiecții-de-s
 pectacole-royal-ballet-opera-din-londra-la-mnar
END:VEVENT
END:VCALENDAR
