BEGIN:VCALENDAR
VERSION:2.0
PRODID:-//https://mnar.ro///NONSGML kigkonsult.se iCalcreator 2.10.15//
METHOD:PUBLISH
BEGIN:VEVENT
UID:20260421T131535EEST-0960RZBk8J@https://mnar.ro/
DTSTAMP:20260421T101535Z
DESCRIPTION:Muzeul Național de Artă al României\, alături de Muzeul Județea
 n de Artă „Centrul Artistic Baia Mare”\, vă invită la vernisajul expoziție
 i „József Klein și Școala de la Baia Mare”\, care va avea loc joi\, 18 sep
 tembrie 2025\, de la ora 18:00\, la parterul Galeriei Naționale (A4)\, Cal
 ea Victoriei 49-53.\nCuratorii expoziției sunt Alina Petrescu\, șef Secția
  Artă Românească Modernă\, Muzeul Național de Artă al României și Robert S
 trebeli\, director Muzeul Județean Baia Mare „Centrul Artistic Baia Mare”.
 \nExpoziția „József Klein și Școala de la Baia Mare” cuprinde o amplă sele
 cție de lucrări de pictură\, grafică\, sculptură și documente\, provenite 
 majoritar din atelierul pictorului și devenite parte din patrimoniul Muzeu
 lui Județean de Artă „Centrul Artistic Baia Mare”. Acestora li se alătură 
 lucrări de la Muzeul Național de Artă al României\, Muzeul Județean Satu M
 are\, Muzeului de Artă din Cluj\, Centrul de Cultură\, Artă și Agrement di
 n Târgu-Mureș\, dar și din colecții private din Budapesta și din Paris.\nE
 ste pentru prima dată când publicul din București are ocazia să vadă 80 de
  opere din creația lui József Klein\, care prezintă opera artistului dintr
 -o perspectivă nouă\, puțin cercetată\, ca membru al Coloniei artistice de
  la Baia Mare.\nNăscut într-o familie modestă&nbsp\;de origine evreiască d
 in județul Arad\, József Klein (1896-1945) a fost marcat de o copilărire p
 lină de neajunsuri și greutăți\, motiv pentru care scenele din viața cotid
 iană a oamenilor simpli au devenit o temă recurentă în pictura sa. Suferin
 țele celor mulți din primii ani l-au făcut să înfățișeze lumea înconjurăto
 are într-o manieră realistă. În ciuda condițiilor precare și a discriminăr
 ii care l-au urmărit toată viața\, Klein a dat dovadă de o perseverență gr
 eu de egalat și a devenit creatorul unei arte atente la dramele omului de 
 rând\, care a îmbogățit formele picturii tradiționale cu experimente ale i
 mpresionismului și fovismului.\nPictor\, gravor și sculptor\, József Klein
  s-a format la Budapesta\, la clasele profesorilor Károly Ferenczy și Istv
 an Réti. Dacă de la primul dintre profesori a învățat tehnicile picturii i
 mpresioniste\, cel din urmă îl inspiră să se alăture grupului de artiști c
 ondus de Janos Thorma din Colonia de la Baia Mare\, unde descoperă plăcere
 a de-a lucra în aer liber. Picturile realizate aici figurează în 1922 în e
 xpozițiile de grup ale Școlii de la Baia Mare\, la Satu Mare\, Cluj\, Orad
 ea și Timișoara.\nȘcoala de pictură de la Baia Mare\, întemeiată de Simon 
 Hollósy\, Istvan Réti\, János Thorma\, Bélla Iványi-Grünwald și Károly Fer
 enczy\, respinge conservatorismului academic și pune accent pe învățarea m
 eșteșugului picturii prin studiul după natură. Încurajat de prietenii și c
 olegii săi de breaslă Istvan Réti și Janos Thorma\, Hollósy inaugurează în
  anul 1896 Școala de Pictură de la Baia Mare\, deschizând calea unor noi a
 bordări în pictură\, bazate pe refuzul convențiilor academice\, dar cu o a
 petență pentru pictura în plein-air și studiul după modelele oferite de pi
 ctorii francezi.\nCâțiva ani mai târziu József Klein ia contact\, de aseme
 nea\, cu efervescența artistică din Paris\, unde asimilează maniera impres
 ionistă și intensitatea cromatică fovistă și se apropie de mișcarea artist
 ică Noua Obiectivitate.\nDupă revenirea din Franța organizează prima expoz
 iție personală la Baia-Mare\, pe care o itinerează la Cluj și Arad. József
  Klein expune ulterior la București și Timișoara lucrări care îl consacră 
 drept un pictor avangardist. Repertoriul său tematic se diversifică odată 
 cu abordarea unor subiecte sociale\, dar și printr-o atenție sporită oferi
 tă mesajului transmis de opera de artă. Încercarea sa de conectare la mari
 le curente europene\, asimilarea inovațiilor în materie de limbaj artistic
  și experimentarea unor tehnici noi l-au ajutat pe Klein să își descopere 
 propriul stil.\nÎn 1944\, Klein și soția sa\, Piroska Kohn\, sunt deportaț
 i din Baia Mare în lagărul Auschwitz-Birkenau\, unde își găsesc sfârșitul.
  O parte semnificativă de lucrări din atelierul pictorului a fost salvată 
 în timpul Holocaustului de pictorul maghiar Kriszán János.\nExpoziția „Józ
 sef Klein și Școala de la Baia Mare” rămâne deschisă în perioada 18 septem
 brie 2025 - 28 februarie 2025 și este însoțită de o serie de evenimente co
 nexe.\nProgram\nVineri\, 19 septembrie 2025\, ora 11:00\nAtelier pentru co
 pii cu tema „Culoare și expresivitate”\nUn atelier sub forma unui joc de m
 emorie în care învățăm să privim un tablou\, cu răbdare și atenție\, încer
 când să descoperim cât mai multe detalii pe care să le memorăm.\nVineri\, 
 19 septembrie 2025\, ora 16:00\nConferință susținută de curatorul expoziți
 ei Robert Strebeli\, directorul Muzeului Județean Baia Mare „Centrul Artis
 tic Baia Mare”\nDuminică\, 21 septembrie 2025\, ora 12:00\nVizită ghidată 
 de specialitate susținută de Alina Petrescu\, curatoarea expoziției\, șef 
 secția Artă Românească Modernă\, Muzeul Național de Artă al României\nSept
 embrie 2025- Februarie 2026: Seria de ateliere „Anotimpuri maramureșene” p
 ropune copiilor 4 ateliere tematice dedicate peisajelor\, obiceiurilor și 
 tradițiilor din fiecare anotimp\, aducând în prim-plan specificul cultural
  și folcloric al Maramureșului\, așa cum se reflectă în picturile lui Jozs
 ef Klein și ale Școlii de la Baia Mare. Datele exacte vor fi anunțate ulte
 rior. https://devcpanel.mnar.ro/evenimente-muzeu/eveniment/839-expoziția-„
 józsef-klein-și-școala-de-la-baia-mare”
DTSTART:20250903T114418Z
DTEND:20260228T144418Z
LOCATION:Muzeul Naţional de Artă al României\, parterul Galeriei Naţionale 
 (Calea Victoriei 49\, București\, România)
SUMMARY:Expoziția „József Klein și Școala de la Baia Mare”
URL:https://devcpanel.mnar.ro/evenimente-muzeu/eveniment/839-expoziția-„józ
 sef-klein-și-școala-de-la-baia-mare”
END:VEVENT
END:VCALENDAR
