BEGIN:VCALENDAR
VERSION:2.0
PRODID:-//https://mnar.ro///NONSGML kigkonsult.se iCalcreator 2.10.15//
METHOD:PUBLISH
BEGIN:VEVENT
UID:20260421T131727EEST-9939854ouk@https://mnar.ro/
DTSTAMP:20260421T101727Z
DESCRIPTION:Muzeul Național de Artă al României vă invită la conferința „Ef
 igiile regelui – portretistica regelui Ferdinand al României”\, desfășurat
 ă miercuri\, 22 octombrie 2025\, de la ora 16.30\, în Sala cu Oglinzi (Cal
 ea Victoriei 49-53). Evenimentul este prezentat de dr. Carmen Tănăsoiu\, s
 pecialist în cadrul Secției de Artă Veche Românească.\nConferința „Efigiil
 e regelui – portretistica regelui Ferdinand al României” reprezintă al tre
 ilea eveniment din proiectul intitulat „Efigii regale”\, prin care Muzeul 
 Național de Artă al României dorește să marcheze împlinirea a 160 de ani d
 e la nașterea regelui Ferdinand și a 150 de ani de la nașterea reginei Mar
 ia.\nDesemnat moștenitor al Coroanei țării în 1881\, cu ocazia proclamării
  Regatului\, tânărul principe Ferdinand a petrecut 15 ani în România\, în 
 umbra regelui Carol I\, înainte de a deveni el însuși rege\, în 1914. Cont
 emporanii l-au descris ca pe un om bun și nobil\, dedicat până la sacrific
 iu datoriei sale\, având o personalitate timidă și modestă. Mai puțin prot
 ocolar și mai apropiat de colaboratorii săi\, democrat\, jovial și având u
 n delicat simț al umorului\, regele Ferdinand era lipsit de etichetă\, \,\
 ,nu avea gust pentru exercițiul puterii” și nu a fost neapărat interesat d
 e imaginea sa și de impactul acesteia.\nPortretistica regelui Ferdinand – 
 de la cea filatelică și medalistică\, până la cea plastică și statuară – a
  fost modelată de faptele domniei sale și de eroica lui loialitate pentru 
 întregirea țării. Deși mai puțin bogată în reprezentări decât a soției sal
 e\, regina Maria\, iconografia regelui Ferdinand urmează principalele even
 imente din viața și domnia sa – sosirea în România\, căsătoria\, calitatea
  de rege\, războiul\, Încoronarea\, profesiunea militară\, mecenatul asupr
 a unor instituții naționale.\nDebutul domniei regelui Ferdinand în octombr
 ie 1914 a însemnat o perioadă istorică dificilă care a reflectat atât grav
 itatea şi prioritatea multor altor probleme ale țării\, cât și\, într-un s
 ens mai general\, căutarea propriei imagini a noului rege. În fond\, Primu
 l Război Mondial a pus și problema viabilității monarhiilor constituțional
 e\; faptul că România rămăsese regat s-a datorat\, în egală măsură\, opțiu
 nii oamenilor politici români și regelui Ferdinand însuși.\nUlterior\, mai
  ales portretistica oficială a regelui (timbre\, medalii) a exprimat încer
 carea de a reda țării și provinciilor de curând unite ideea de stabilitate
 \, autoritate și coerența unui program politic.\nColecționar de timbre și 
 implicat activ în designul unora dintre cele mai înalte ordine și medalii 
 românești\, totuși\, regele Ferdinand nu s-a preocupat de reprezentativita
 tea imaginii sale și\, cu atât mai puțin\, s-a implicat în construirea une
 i propagande. https://devcpanel.mnar.ro/evenimente-muzeu/eveniment/848-con
 ferința-„efigiile-regelui-–-portretistica-regelui-ferdinand-al-româniei”
DTSTART:20251017T105807Z
DTEND:20251022T125807Z
LOCATION:Muzeul Național de Artă al României (Calea Victoriei 49-53\, Bucur
 ești\, România)
SUMMARY:Conferința „Efigiile regelui – portretistica regelui Ferdinand al R
 omâniei”
URL:https://devcpanel.mnar.ro/evenimente-muzeu/eveniment/848-conferința-„ef
 igiile-regelui-–-portretistica-regelui-ferdinand-al-româniei”
END:VEVENT
END:VCALENDAR
