BEGIN:VCALENDAR
VERSION:2.0
PRODID:-//https://mnar.ro///NONSGML kigkonsult.se iCalcreator 2.10.15//
METHOD:PUBLISH
BEGIN:VEVENT
UID:20260421T131927EEST-9994K9tU6b@https://mnar.ro/
DTSTAMP:20260421T101927Z
DESCRIPTION:Vineri\, 5.12. 2025\, ora 17.00\nPerformance în conexiune cu in
 stalația „Anthroposynaptic” de Mircea Cantor&nbsp\;:\nBocetul „Versul cămă
 șii ”- de Ioan Opris \, Breb Maramureș\nCântecul„Strigătul&nbsp\;cămășii” 
 - Ileana Bozai \, Breb Maramureș\nDurata: 40 minute\nParticipă\nMircea Can
 tor\nIoan Opriș – dobă și voce\nIleana Bozai - voce\nIonuț Borca – vioară
 \nCristian Cupcea – zongoră\nRadu Pop – trâmbiță\nIleana Hotea - torcătoar
 e\nPerformance-ul este o colaborare între artistul Mircea Cantor\, diaconu
 l Ioan Opriș și cântăreața Ileana Bozai\, din satul Breb\, Maramureș\, în 
 jurul instalației „Anthroposynaptic”(2015). Cântece tradiționale\, rituali
 ce\, care însoțesc nașterea și moartea oamenilor din sat\, vor fi transfor
 mate în cântece dedicate iei.\nMuzicienii vor cânta cele două compoziții p
 roprii\, acompaniați de instrumentiști la dobă\, zongoră și trâmbiță\, iar
  pe toată durata performance-ului o artizană din Maramureș va toarce cânep
 a cu un fus cu zurgălăi.\n&nbsp\;\nDespre bocetul „Versul cămășii” Mircea 
 Cantor spune că: „Într-o linie melodică gravă\, monotonă și repetitivă\, î
 n 40 de strofe\, „viața” iei va fi cântată începând cu sămânța de cânepa p
 e care o plantează țăranul\, planta pe care o îngrijește\, procedeele tehn
 ice prin care se vor realiza&nbsp\; părți ale iei. Este o poveste a vieții
  pe care cămașa o parcurge împreună cu cel care o va purta\; poveste care 
 se continuă și după ce proprietarul moare iar cămașa își va continua viața
  sub o altă formă\, și anume în instalația mea. Performance-ul&nbsp\; înce
 pe și se încheie cu un cântec de trâmbiță\, cântec ce este folosit pe ulti
 mul drum al mortului sau atunci când pornesc oile la păscut peste vară\, d
 upă sâmbra oilor\, ca un cântec solemn de drum&nbsp\;bun\,&nbsp\;de&nbsp\;
 adio.”\n„Strigătul Cămășii” compus de Ileana Bozai\, pornește de la „strig
 ătul miresei”\, un cântec de nuntă — ritual ce are loc în Maramureș în ziu
 a în care mireasa pleacă de acasă — pentru a povesti „viața” iei\, de data
  aceasta într-un ton de bun augur\, specific strigătului miresei. „În timp
 ul cântării cântăreața aruncă cu grâu peste cei prezenți\, cum se aruncă d
 e altfel pentru cei veniți să acompanieze mireasa. ca un simbol al fertili
 tății\, al rodului bun. Linia melodică este de joc și bucurie\, foarte afi
 rmativă. Este acompaniată de toate aceste instrumente specifice Maramureșu
 lui zongoră\, dobă și vioară.” (Mircea Cantor)\nEveniment realizat cu spri
 jinul Catena pentru Artă.\nParticiparea la performance este gratuită\, în 
 limita locurilor disponibile\, fără programare prealabilă. Accesul în expo
 ziție se face pe baza biletului în valoare de 60 lei. https://devcpanel.mn
 ar.ro/evenimente-muzeu/eveniment/855-performance-mircea-cantor-în-cadrul-e
 xpoziției-„românia-reprezentarea-portului-popular-în-artă”
DTSTART:20251204T074941Z
DTEND:20251205T164941Z
LOCATION:Muzeul Naţional de Artă al României\, parterul Galeriei Naţionale 
 (Calea Victoriei 49\, București\, România)
SUMMARY:Performance Mircea Cantor în cadrul expoziției „România-reprezentar
 ea portului popular în artă”
URL:https://devcpanel.mnar.ro/evenimente-muzeu/eveniment/855-performance-mi
 rcea-cantor-în-cadrul-expoziției-„românia-reprezentarea-portului-popular-î
 n-artă”
END:VEVENT
END:VCALENDAR
